BEGIN:VCALENDAR
VERSION:2.0
PRODID:-//USA Lacrosse Texas Chapter - ECPv6.15.20//NONSGML v1.0//EN
CALSCALE:GREGORIAN
METHOD:PUBLISH
X-ORIGINAL-URL:https://www.ntxlax.com
X-WR-CALDESC:Events for USA Lacrosse Texas Chapter
REFRESH-INTERVAL;VALUE=DURATION:PT1H
X-Robots-Tag:noindex
X-PUBLISHED-TTL:PT1H
BEGIN:VTIMEZONE
TZID:America/Chicago
BEGIN:DAYLIGHT
TZOFFSETFROM:-0600
TZOFFSETTO:-0500
TZNAME:CDT
DTSTART:20210314T080000
END:DAYLIGHT
BEGIN:STANDARD
TZOFFSETFROM:-0500
TZOFFSETTO:-0600
TZNAME:CST
DTSTART:20211107T070000
END:STANDARD
BEGIN:DAYLIGHT
TZOFFSETFROM:-0600
TZOFFSETTO:-0500
TZNAME:CDT
DTSTART:20220313T080000
END:DAYLIGHT
BEGIN:STANDARD
TZOFFSETFROM:-0500
TZOFFSETTO:-0600
TZNAME:CST
DTSTART:20221106T070000
END:STANDARD
BEGIN:DAYLIGHT
TZOFFSETFROM:-0600
TZOFFSETTO:-0500
TZNAME:CDT
DTSTART:20230312T080000
END:DAYLIGHT
BEGIN:STANDARD
TZOFFSETFROM:-0500
TZOFFSETTO:-0600
TZNAME:CST
DTSTART:20231105T070000
END:STANDARD
BEGIN:DAYLIGHT
TZOFFSETFROM:-0600
TZOFFSETTO:-0500
TZNAME:CDT
DTSTART:20240310T080000
END:DAYLIGHT
BEGIN:STANDARD
TZOFFSETFROM:-0500
TZOFFSETTO:-0600
TZNAME:CST
DTSTART:20241103T070000
END:STANDARD
END:VTIMEZONE
BEGIN:VEVENT
DTSTART;TZID=America/Chicago:20230208T201500
DTEND;TZID=America/Chicago:20230208T231500
DTSTAMP:20260424T054236
CREATED:20230125T035735Z
LAST-MODIFIED:20230125T035735Z
UID:11933-1675887300-1675898100@www.ntxlax.com
SUMMARY:Round Rock @ Dripping Springs - Varsity Boys
DESCRIPTION:Share this:\n				Share on X (Opens in new window)\n				X\n			\n				Print (Opens in new window)\n				Print
URL:https://www.ntxlax.com/events/round-rock-dripping-springs-varsity-boys/
CATEGORIES:Game
END:VEVENT
BEGIN:VEVENT
DTSTART;TZID=America/Chicago:20230207T193000
DTEND;TZID=America/Chicago:20230207T223000
DTSTAMP:20260424T054236
CREATED:20230125T230724Z
LAST-MODIFIED:20230125T230724Z
UID:12007-1675798200-1675809000@www.ntxlax.com
SUMMARY:Stratford @ Cypress - Varsity Boys
DESCRIPTION:Share this:\n				Share on X (Opens in new window)\n				X\n			\n				Print (Opens in new window)\n				Print
URL:https://www.ntxlax.com/events/stratford-cypress-varsity-boys/
CATEGORIES:Game
END:VEVENT
BEGIN:VEVENT
DTSTART;TZID=America/Chicago:20230205T120000
DTEND;TZID=America/Chicago:20230205T150000
DTSTAMP:20260424T054236
CREATED:20230125T225523Z
LAST-MODIFIED:20230125T225523Z
UID:11988-1675598400-1675609200@www.ntxlax.com
SUMMARY:UT Wlax vs Arizona State
DESCRIPTION:Share this:\n				Share on X (Opens in new window)\n				X\n			\n				Print (Opens in new window)\n				Print
URL:https://www.ntxlax.com/events/ut-wlax-vs-arizona-state/
CATEGORIES:Game
END:VEVENT
BEGIN:VEVENT
DTSTART;TZID=America/Chicago:20230204T160000
DTEND;TZID=America/Chicago:20230204T190000
DTSTAMP:20260424T054236
CREATED:20230125T230632Z
LAST-MODIFIED:20230125T230632Z
UID:12005-1675526400-1675537200@www.ntxlax.com
SUMMARY:Cypress @ Friendswood - Varsity Boys
DESCRIPTION:Share this:\n				Share on X (Opens in new window)\n				X\n			\n				Print (Opens in new window)\n				Print
URL:https://www.ntxlax.com/events/cypress-friendswood-varsity-boys/
CATEGORIES:Game
END:VEVENT
BEGIN:VEVENT
DTSTART;TZID=America/Chicago:20230204T140000
DTEND;TZID=America/Chicago:20230204T170000
DTSTAMP:20260424T054236
CREATED:20230125T033110Z
LAST-MODIFIED:20230125T033110Z
UID:11902-1675519200-1675530000@www.ntxlax.com
SUMMARY:Atascocita @ Alamo Heights - Varsity Boys
DESCRIPTION:Share this:\n				Share on X (Opens in new window)\n				X\n			\n				Print (Opens in new window)\n				Print
URL:https://www.ntxlax.com/events/atascocita-alamo-heights-varsity-boys/
CATEGORIES:Game
END:VEVENT
BEGIN:VEVENT
DTSTART;TZID=America/Chicago:20230204T130500
DTEND;TZID=America/Chicago:20230204T160000
DTSTAMP:20260424T054236
CREATED:20230127T161649Z
LAST-MODIFIED:20230127T161649Z
UID:12139-1675515900-1675526400@www.ntxlax.com
SUMMARY:Alamo Heights @ Austin - Varsity Girls
DESCRIPTION:Share this:\n				Share on X (Opens in new window)\n				X\n			\n				Print (Opens in new window)\n				Print
URL:https://www.ntxlax.com/events/alamo-heights-austin-varsity-girls/
CATEGORIES:Game
END:VEVENT
BEGIN:VEVENT
DTSTART;TZID=America/Chicago:20230204T130000
DTEND;TZID=America/Chicago:20230204T160000
DTSTAMP:20260424T054236
CREATED:20230125T035629Z
LAST-MODIFIED:20230125T035629Z
UID:11931-1675515600-1675526400@www.ntxlax.com
SUMMARY:Round Rock @ Liberty Hill - Varsity Boys
DESCRIPTION:Share this:\n				Share on X (Opens in new window)\n				X\n			\n				Print (Opens in new window)\n				Print
URL:https://www.ntxlax.com/events/round-rock-liberty-hill-varsity-boys/
CATEGORIES:Game
END:VEVENT
BEGIN:VEVENT
DTSTART;TZID=America/Chicago:20230204T120000
DTEND;TZID=America/Chicago:20230204T150000
DTSTAMP:20260424T054236
CREATED:20230125T225342Z
LAST-MODIFIED:20230125T225342Z
UID:11986-1675512000-1675522800@www.ntxlax.com
SUMMARY:UT Wlax vs U Miami
DESCRIPTION:Share this:\n				Share on X (Opens in new window)\n				X\n			\n				Print (Opens in new window)\n				Print
URL:https://www.ntxlax.com/events/ut-wlax-vs-u-miami/
CATEGORIES:Game
END:VEVENT
BEGIN:VEVENT
DTSTART;TZID=America/Chicago:20230204T113000
DTEND;TZID=America/Chicago:20230204T143000
DTSTAMP:20260424T054236
CREATED:20230127T161556Z
LAST-MODIFIED:20230127T161556Z
UID:12137-1675510200-1675521000@www.ntxlax.com
SUMMARY:Alamo Heights @ LASA - Varsity Girls
DESCRIPTION:Share this:\n				Share on X (Opens in new window)\n				X\n			\n				Print (Opens in new window)\n				Print
URL:https://www.ntxlax.com/events/alamo-heights-lasa-varsity-girls/
CATEGORIES:Game
END:VEVENT
BEGIN:VEVENT
DTSTART;TZID=America/Chicago:20230203T160000
DTEND;TZID=America/Chicago:20230203T190000
DTSTAMP:20260424T054236
CREATED:20230125T225259Z
LAST-MODIFIED:20230125T225259Z
UID:11984-1675440000-1675450800@www.ntxlax.com
SUMMARY:UT Wlax vs BYU
DESCRIPTION:Share this:\n				Share on X (Opens in new window)\n				X\n			\n				Print (Opens in new window)\n				Print
URL:https://www.ntxlax.com/events/ut-wlax-vs-byu/
CATEGORIES:Game
END:VEVENT
BEGIN:VEVENT
DTSTART;TZID=America/Chicago:20230203T100000
DTEND;TZID=America/Chicago:20230203T130000
DTSTAMP:20260424T054236
CREATED:20230125T225217Z
LAST-MODIFIED:20230125T225217Z
UID:11982-1675418400-1675429200@www.ntxlax.com
SUMMARY:UT Wlax vs UCONN
DESCRIPTION:Share this:\n				Share on X (Opens in new window)\n				X\n			\n				Print (Opens in new window)\n				Print
URL:https://www.ntxlax.com/events/ut-wlax-vs-uconn/
CATEGORIES:Game
END:VEVENT
BEGIN:VEVENT
DTSTART;TZID=America/Chicago:20230202T190000
DTEND;TZID=America/Chicago:20230202T220000
DTSTAMP:20260424T054236
CREATED:20230202T232421Z
LAST-MODIFIED:20230202T232421Z
UID:12383-1675364400-1675375200@www.ntxlax.com
SUMMARY:Jesuit B @ Grapevine - Varsity Boys
DESCRIPTION:Share this:\n				Share on X (Opens in new window)\n				X\n			\n				Print (Opens in new window)\n				Print
URL:https://www.ntxlax.com/events/jesuit-b-grapevine-varsity-boys/
CATEGORIES:Game
END:VEVENT
BEGIN:VEVENT
DTSTART;TZID=America/Chicago:20230129T110000
DTEND;TZID=America/Chicago:20230129T133000
DTSTAMP:20260424T054236
CREATED:20230118T002837Z
LAST-MODIFIED:20230118T002837Z
UID:11750-1674990000-1674999000@www.ntxlax.com
SUMMARY:Just Play Lax Clinic with Kyle Harrison and Charlotte North
DESCRIPTION:Share this:\n				Share on X (Opens in new window)\n				X\n			\n				Print (Opens in new window)\n				Print
URL:https://www.ntxlax.com/events/just-play-lax-clinic-with-kyle-harrison-and-charlotte-north/
CATEGORIES:Clinics
ORGANIZER;CN="Just Play":MAILTO:info@justplaylax.com
END:VEVENT
BEGIN:VEVENT
DTSTART;TZID=America/Chicago:20230128T160000
DTEND;TZID=America/Chicago:20230128T190000
DTSTAMP:20260424T054236
CREATED:20230125T230455Z
LAST-MODIFIED:20230125T230455Z
UID:12003-1674921600-1674932400@www.ntxlax.com
SUMMARY:Cypress @ Magnolia - Varsity Boys
DESCRIPTION:Share this:\n				Share on X (Opens in new window)\n				X\n			\n				Print (Opens in new window)\n				Print
URL:https://www.ntxlax.com/events/cypress-magnolia-varsity-boys/
CATEGORIES:Game
END:VEVENT
BEGIN:VEVENT
DTSTART;TZID=America/Chicago:20230128T160000
DTEND;TZID=America/Chicago:20230128T190000
DTSTAMP:20260424T054236
CREATED:20230125T225057Z
LAST-MODIFIED:20230125T225057Z
UID:11980-1674921600-1674932400@www.ntxlax.com
SUMMARY:UT Wlax vs Tulane
DESCRIPTION:Share this:\n				Share on X (Opens in new window)\n				X\n			\n				Print (Opens in new window)\n				Print
URL:https://www.ntxlax.com/events/ut-wlax-vs-tulane/
CATEGORIES:Game
END:VEVENT
BEGIN:VEVENT
DTSTART;TZID=America/Chicago:20230128T120000
DTEND;TZID=America/Chicago:20230128T150000
DTSTAMP:20260424T054236
CREATED:20230125T224955Z
LAST-MODIFIED:20230125T224955Z
UID:11978-1674907200-1674918000@www.ntxlax.com
SUMMARY:UT Wlax @ LSU
DESCRIPTION:Share this:\n				Share on X (Opens in new window)\n				X\n			\n				Print (Opens in new window)\n				Print
URL:https://www.ntxlax.com/events/ut-wlax-lsu/
CATEGORIES:Game
END:VEVENT
BEGIN:VEVENT
DTSTART;VALUE=DATE:20230128
DTEND;VALUE=DATE:20230130
DTSTAMP:20260424T054236
CREATED:20230127T163302Z
LAST-MODIFIED:20230127T163302Z
UID:12161-1674864000-1675036799@www.ntxlax.com
SUMMARY:Aggieland Classic - Varsity Girls
DESCRIPTION:Share this:\n				Share on X (Opens in new window)\n				X\n			\n				Print (Opens in new window)\n				Print
URL:https://www.ntxlax.com/events/aggieland-classic-varsity-girls/
LOCATION:Texas A&M\, College Station\, TX\, United States
CATEGORIES:Tournaments
END:VEVENT
BEGIN:VEVENT
DTSTART;VALUE=DATE:20230128
DTEND;VALUE=DATE:20230130
DTSTAMP:20260424T054236
CREATED:20230125T032415Z
LAST-MODIFIED:20230125T032415Z
UID:11895-1674864000-1675036799@www.ntxlax.com
SUMMARY:2023 Jesuit Dallas Invitational
DESCRIPTION:Dallas Jesuit Lacrosse Invitational \n  \nClass A: \nDripping Springs\, Sat 12:00pm \nWestlake A\, Sat 5:00pm \nJesuit NOLA\, Sun 10:00am \n  \nClass B: \nDripping Springs JV\, Sat 11:00am \nWestlake B\, Sat 2:00pm \nHighland Park B\, Sun 11:00am \n  \nJV A: \nGrapevine JV\, Sat 9:00am \nWestlake B\, Sat 12:00pm \nDripping Springs JV\, Sun 10:00am \n  \nJV B: \nDripping Springs JV\, Sun 9:00am \nGrapevine JV\, Sun 1:00pm \nShare this:\n				Share on X (Opens in new window)\n				X\n			\n				Print (Opens in new window)\n				Print
URL:https://www.ntxlax.com/events/2023-jesuit-dallas-invitational/
LOCATION:Ranger Stadium\, 12345 Inwood Rd.\, Dallas\, TX\, 75244\, United States
CATEGORIES:Game
END:VEVENT
BEGIN:VEVENT
DTSTART;VALUE=DATE:20230128
DTEND;VALUE=DATE:20230130
DTSTAMP:20260424T054236
CREATED:20230118T003139Z
LAST-MODIFIED:20230118T003139Z
UID:11753-1674864000-1675036799@www.ntxlax.com
SUMMARY:Dallas Training Weekend Harrison North Montgomery Ohmiller
DESCRIPTION:Share this:\n				Share on X (Opens in new window)\n				X\n			\n				Print (Opens in new window)\n				Print
URL:https://www.ntxlax.com/events/dallas-training-weekend-harrison-north-montgomery-ohmiller/
CATEGORIES:Clinics
ORGANIZER;CN="Just Play":MAILTO:info@justplaylax.com
END:VEVENT
BEGIN:VEVENT
DTSTART;TZID=America/Chicago:20230126T193000
DTEND;TZID=America/Chicago:20230126T223000
DTSTAMP:20260424T054236
CREATED:20230125T230259Z
LAST-MODIFIED:20230125T230259Z
UID:12000-1674761400-1674772200@www.ntxlax.com
SUMMARY:Klein @ Cypress - Varsity Boys
DESCRIPTION:Share this:\n				Share on X (Opens in new window)\n				X\n			\n				Print (Opens in new window)\n				Print
URL:https://www.ntxlax.com/events/klein-cypress-varsity-boys/
CATEGORIES:Game
END:VEVENT
BEGIN:VEVENT
DTSTART;TZID=America/Chicago:20221209T193000
DTEND;TZID=America/Chicago:20221209T220000
DTSTAMP:20260424T054236
CREATED:20221204T164021Z
LAST-MODIFIED:20221204T164559Z
UID:11365-1670614200-1670623200@www.ntxlax.com
SUMMARY:Panther City LC - Home Opener - '22-23 NLL Season
DESCRIPTION:Come out to Dickies Arena in Ft. Worth to support Texas’ one and only professional lacrosse team! \nFriday\, December 9th\, we’ll take on the Vegas Desert Dogs! \nLooking for season tickets? We’ve got ’em right here: https://www.panthercitylax.com/ticket-options/ \nY’all can also purchase single-game tickets here: http://www.ticketmaster.com/panther-city-lacrosse-club-tickets/artist/2820303 \nWe’re excited to see a packed house cheering our home team to their first victory of the season! Can’t wait to see y’all there! \nShare this:\n				Share on X (Opens in new window)\n				X\n			\n				Print (Opens in new window)\n				Print
URL:https://www.ntxlax.com/events/panther-city-lc-home-opener-22-23-nll-season/
LOCATION:Dickies Arena\, 1911 Montgomery Street\, Fort Worth\, TX\, 76107\, United States
CATEGORIES:Game
END:VEVENT
BEGIN:VEVENT
DTSTART;VALUE=DATE:20221112
DTEND;VALUE=DATE:20221114
DTSTAMP:20260424T054236
CREATED:20220827T044630Z
LAST-MODIFIED:20220827T051035Z
UID:10548-1668211200-1668383999@www.ntxlax.com
SUMMARY:Lone Star Shoot-Out Tournament 2022
DESCRIPTION:2022 Lone Star Shoot-Out Lacrosse Tournament \nNovember 12th – 13th \nRailroad Park\, 1301 S. Railroad St\, Lewisville\, TX 75057 \nAge Brackets: 2032 through High School \nCost: $850 per team* \n*Registration is $800 per team\, for programs that enter five or more age brackets! \nRegistration deadline is October 31st. \nShare this:\n				Share on X (Opens in new window)\n				X\n			\n				Print (Opens in new window)\n				Print
URL:https://www.ntxlax.com/events/lone-star-shootout-2022/
LOCATION:Toyota Railroad Park\, 1301 S Railroad St\, Lewisville\, TX\, 75057
CATEGORIES:Tournaments
ATTACH;FMTTYPE=image/jpeg:https://www.ntxlax.com/wp-content/uploads/IMG_20220816_044833_565.jpg
END:VEVENT
BEGIN:VEVENT
DTSTART;TZID=America/Chicago:20221110T170000
DTEND;TZID=America/Chicago:20221110T190000
DTSTAMP:20260424T054236
CREATED:20221007T225828Z
LAST-MODIFIED:20221007T225828Z
UID:10986-1668099600-1668106800@www.ntxlax.com
SUMMARY:Pick Up and Play November
DESCRIPTION:Mansfield was one of 72 cities selected by USA Lacrosse to host a FREE Pick Up and Play event for boys and girls ages 6-16 in support of National Celebrate Lacrosse Week.  This is an opportunity for children to see if the fastest sport on two feet is something they are interested in. \n  \nWe are hosting two events.  Links have been provided for registration and I have attached the flyers  for each event. Registration is for insurance purposes\, as the event is FREE. \n\nSaturday\, October 29 from 10am-12pm @ Hardy Allmon Field.  Registration Link\nThursday\, November 10 from 5:00pm-6:30pm @ Clayton Chandler Park.  MISD doesn’t have school the following day.  Registration Link\n\n \nShare this:\n				Share on X (Opens in new window)\n				X\n			\n				Print (Opens in new window)\n				Print
URL:https://www.ntxlax.com/events/pick-up-and-play-november/
CATEGORIES:Clinics
ATTACH;FMTTYPE=image/jpeg:https://www.ntxlax.com/wp-content/uploads/pickupandplay-scaled.jpg
END:VEVENT
BEGIN:VEVENT
DTSTART;TZID=America/Chicago:20221029T100000
DTEND;TZID=America/Chicago:20221029T120000
DTSTAMP:20260424T054236
CREATED:20221007T225625Z
LAST-MODIFIED:20221007T225625Z
UID:10981-1667037600-1667044800@www.ntxlax.com
SUMMARY:Pick Up and Play October
DESCRIPTION:Mansfield was one of 72 cities selected by USA Lacrosse to host a FREE Pick Up and Play event for boys and girls ages 6-16 in support of National Celebrate Lacrosse Week.  This is an opportunity for children to see if the fastest sport on two feet is something they are interested in. \n  \nWe are hosting two events.  Links have been provided for registration and I have attached the flyers  for each event. Registration is for insurance purposes\, as the event is FREE. \n\nSaturday\, October 29 from 10am-12pm @ Hardy Allmon Field.  Registration Link\nThursday\, November 10 from 5:00pm-6:30pm @ Clayton Chandler Park.  MISD doesn’t have school the following day.  Registration Link\n\n \nShare this:\n				Share on X (Opens in new window)\n				X\n			\n				Print (Opens in new window)\n				Print
URL:https://www.ntxlax.com/events/pick-up-and-play-october/
CATEGORIES:Clinics
ATTACH;FMTTYPE=image/png:https://www.ntxlax.com/wp-content/uploads/pickupandplay2.png
END:VEVENT
BEGIN:VEVENT
DTSTART;VALUE=DATE:20221015
DTEND;VALUE=DATE:20221031
DTSTAMP:20260424T054236
CREATED:20220827T060723Z
LAST-MODIFIED:20220827T060941Z
UID:10561-1665792000-1667174399@www.ntxlax.com
SUMMARY:Turlaxin Lacrosse Tournament 2022
DESCRIPTION:Share this:\n				Share on X (Opens in new window)\n				X\n			\n				Print (Opens in new window)\n				Print
URL:https://www.ntxlax.com/events/turlaxin-lacrosse-tournament-2022/
CATEGORIES:Tournaments
ATTACH;FMTTYPE=image/jpeg:https://www.ntxlax.com/wp-content/uploads/maxresdefault.jpg
END:VEVENT
BEGIN:VEVENT
DTSTART;VALUE=DATE:20221008
DTEND;VALUE=DATE:20221010
DTSTAMP:20260424T054236
CREATED:20220826T142131Z
LAST-MODIFIED:20220831T112629Z
UID:10541-1665187200-1665359999@www.ntxlax.com
SUMMARY:The Lax Event
DESCRIPTION:The Lax Event 2022 \nOctober 8th & 9th\, 2022 \nBF Phillips Community Park \n3335 Timber Ridge Dr\, Frisco\, TX 75034 \nTheLaxEvent.com \n \n \nShare this:\n				Share on X (Opens in new window)\n				X\n			\n				Print (Opens in new window)\n				Print
URL:https://www.ntxlax.com/events/the-lax-event-2022/
LOCATION:B.F. Phillips Park\, 3335 Timber Ridge Dr\, Frisco\, TX\, 75034
CATEGORIES:Showcases
ATTACH;FMTTYPE=image/jpeg:https://www.ntxlax.com/wp-content/uploads/20220826_091002.jpg
END:VEVENT
BEGIN:VEVENT
DTSTART;TZID=America/Chicago:20220910T090000
DTEND;TZID=America/Chicago:20220910T120000
DTSTAMP:20260424T054236
CREATED:20220823T181015Z
LAST-MODIFIED:20220823T181015Z
UID:10522-1662800400-1662811200@www.ntxlax.com
SUMMARY:Just Play Lax
DESCRIPTION:Smaller fields\, faster pace\, fewer players and more action!  \nJust Play Lax provides 6v6 playing opportunities for girls lacrosse players. With just 12 total field players (plus 2 goalies) in a 30yd X 65yd playing area\, each Just Play player will receive maximum touches on the ball. More repetitions in a game setting means more opportunity for development and more opportunity to try new moves. Players will be more willing to be creative and less afraid to make mistakes – a perfect combination to improve your game and prepare for the spring season. \nThe goal is for players to have fun and get better with less running\, more reps\, and more playing time within a smaller 6v6 format. This league is a unique chance to have fun competing in a new way. Just games. Just Play! \nShare this:\n				Share on X (Opens in new window)\n				X\n			\n				Print (Opens in new window)\n				Print
URL:https://www.ntxlax.com/events/just-play-lax/
LOCATION:grapevine middle school\, 301 pony pkwy\, grapevine\, TX\, 76051\, United States
ORGANIZER;CN="Just Play":MAILTO:info@justplaylax.com
END:VEVENT
BEGIN:VEVENT
DTSTART;TZID=America/Chicago:20220613T090000
DTEND;TZID=America/Chicago:20220615T150000
DTSTAMP:20260424T054236
CREATED:20220216T133426Z
LAST-MODIFIED:20220216T133426Z
UID:8991-1655110800-1655305200@www.ntxlax.com
SUMMARY:Jordan Wolf Pro Lacrosse Camp
DESCRIPTION:Three-day commuter lacrosse camp for boys ages 7-18 of all experience levels. All positions are welcome. \nShare this:\n				Share on X (Opens in new window)\n				X\n			\n				Print (Opens in new window)\n				Print
URL:https://www.ntxlax.com/events/jordan-wolf-pro-lacrosse-camp/
LOCATION:Dallas College\, 3939 Valley View Lane\, Farmers Branch\, TX\, 75244\, United States
CATEGORIES:Camps
ATTACH;FMTTYPE=image/png:https://www.ntxlax.com/wp-content/uploads/Dallas-Boys.png
END:VEVENT
BEGIN:VEVENT
DTSTART;TZID=America/Chicago:20220613T080000
DTEND;TZID=America/Chicago:20220615T140000
DTSTAMP:20260424T054236
CREATED:20220215T231809Z
LAST-MODIFIED:20220216T133450Z
UID:8988-1655107200-1655301600@www.ntxlax.com
SUMMARY:Sam Apuzzo Pro Lacrosse Camp
DESCRIPTION:Three-day commuter lacrosse camp for girls ages 7-18 of all experience levels.  All positions are welcome. \nShare this:\n				Share on X (Opens in new window)\n				X\n			\n				Print (Opens in new window)\n				Print
URL:https://www.ntxlax.com/events/sam-apuzzo-pro-lacrosse-camp/
LOCATION:Dallas College\, 3939 Valley View Lane\, Farmers Branch\, TX\, 75244\, United States
CATEGORIES:Camps
ATTACH;FMTTYPE=image/png:https://www.ntxlax.com/wp-content/uploads/Dallas-Girls.png
END:VEVENT
BEGIN:VEVENT
DTSTART;VALUE=DATE:20220604
DTEND;VALUE=DATE:20220606
DTSTAMP:20260424T054236
CREATED:20220110T122025Z
LAST-MODIFIED:20220110T122025Z
UID:8956-1654300800-1654473599@www.ntxlax.com
SUMMARY:Texas Draw 2022
DESCRIPTION:Texas Draw on Saturday\, June 4 and Sunday June 5\, 2022 at Russell Creek Park in Plano\, TX. \nVictory’s tournaments are exploding all over the country\, and we anticipate this season to be the best yet. \nFeatures: \n• FOUR (4) GAMES GUARANTEED\n• ELITE LACROSSE EXPERIENCE\n• NCAA COACHES ONSITE\n• CHAMPIONSHIP FORMAT AT ALL DIVISIONS\n• LARGEST SUMMER TOURNAMENT & BEST COMPETITION IN THE STATE\n• SIX TURF FIELDS AS RAINSITE\n• BOYS & GIRLS RECRUITING SHOWCASES ON FRIDAY \nDivisions: \nMens: 18+\nBoys High School: 2023\, 2024\, 2025\, 2026 A & B\nGirls High School: 2023\, 2024\, 2025\, 2026\nBoys Youth: 2027 A & B\, 2028 A & B\, 2029 A & B\, 2030/31 A & B 2027-2030/31 A & B: full field with goalies (10v10)\, Boys 6v6 2032/33\nGirls Youth: Youth | 2027\, 2028\, 2029\, 2030\, 2031/32 8v8 \nThis event will likely sell out\, so please secure your spot before it is too late! \nREGISTER HERE! \nEVENT WEBPAGE \nPriority Registration Deadline: JANUARY 15\, 2022 \nShare this:\n				Share on X (Opens in new window)\n				X\n			\n				Print (Opens in new window)\n				Print
URL:https://www.ntxlax.com/events/texas-draw-2022/
LOCATION:Russell Creek Park\, 3500 McDermott Road\, Plano\, TX\, 75025
CATEGORIES:Tournaments
ATTACH;FMTTYPE=image/png:https://www.ntxlax.com/wp-content/uploads/VES_TexasDraw.png
END:VEVENT
END:VCALENDAR