BEGIN:VCALENDAR
VERSION:2.0
PRODID:-//USA Lacrosse Texas Chapter - ECPv6.15.20//NONSGML v1.0//EN
CALSCALE:GREGORIAN
METHOD:PUBLISH
X-WR-CALNAME:USA Lacrosse Texas Chapter
X-ORIGINAL-URL:https://www.ntxlax.com
X-WR-CALDESC:Events for USA Lacrosse Texas Chapter
REFRESH-INTERVAL;VALUE=DURATION:PT1H
X-Robots-Tag:noindex
X-PUBLISHED-TTL:PT1H
BEGIN:VTIMEZONE
TZID:America/Chicago
BEGIN:DAYLIGHT
TZOFFSETFROM:-0600
TZOFFSETTO:-0500
TZNAME:CDT
DTSTART:20170312T080000
END:DAYLIGHT
BEGIN:STANDARD
TZOFFSETFROM:-0500
TZOFFSETTO:-0600
TZNAME:CST
DTSTART:20171105T070000
END:STANDARD
BEGIN:DAYLIGHT
TZOFFSETFROM:-0600
TZOFFSETTO:-0500
TZNAME:CDT
DTSTART:20180311T080000
END:DAYLIGHT
BEGIN:STANDARD
TZOFFSETFROM:-0500
TZOFFSETTO:-0600
TZNAME:CST
DTSTART:20181104T070000
END:STANDARD
BEGIN:DAYLIGHT
TZOFFSETFROM:-0600
TZOFFSETTO:-0500
TZNAME:CDT
DTSTART:20190310T080000
END:DAYLIGHT
BEGIN:STANDARD
TZOFFSETFROM:-0500
TZOFFSETTO:-0600
TZNAME:CST
DTSTART:20191103T070000
END:STANDARD
END:VTIMEZONE
BEGIN:VEVENT
DTSTART;VALUE=DATE:20181020
DTEND;VALUE=DATE:20181022
DTSTAMP:20260423T134945
CREATED:20181020T050000Z
LAST-MODIFIED:20201215T130719Z
UID:331-1539993600-1540166399@www.ntxlax.com
SUMMARY:The Turlaxin 2018
DESCRIPTION:The 7th Annual TurLaxin’ Tournament Sponsored by McKinney Lacrosse \nGirls Divisions:\n3rd/4th\n5th/6th\n7th/8th Competitive\n7th/8th Championship\nHigh School (JV and Varsity) \nFormat:\n4 games\, no playoffs \nRegistration Fee:\n3/4 $375\n5/6 and 7/8 $500\nHigh School Varsity and JV $650 \nDiscounts:\n10% off 4 or more teams \n*$50 late fee after October 1 \nShare this:\n				Share on X (Opens in new window)\n				X\n			\n				Print (Opens in new window)\n				Print
URL:https://www.ntxlax.com/events/the-turlaxin-2018/
LOCATION:Al Ruschhaupt Park\, 1986 Park View Ave\, McKinney\, TX\, 75070
CATEGORIES:Tournaments
ATTACH;FMTTYPE=image/png:https://www.ntxlax.com/wp-content/uploads/turlaxin_2018.png
END:VEVENT
BEGIN:VEVENT
DTSTART;VALUE=DATE:20181006
DTEND;VALUE=DATE:20181007
DTSTAMP:20260423T134945
CREATED:20181006T050000Z
LAST-MODIFIED:20201215T130720Z
UID:306-1538784000-1538870399@www.ntxlax.com
SUMMARY:Lax Gives Back Charity Playday
DESCRIPTION:October 6th – 8:00 am – 7:00 pm\nBF Phillips Park\, Frisco TX \nGirls Lacrosse Club of Frisco will be hosting it’s Lax Gives Back Charity playday. It is a one day event with all registration proceeds and on field donations going to support local initiatives. \nEach field will have a different charity and we will have volunteers running up and down the sidelines encouraging parents to contribute $1/goal scored on that field. Last year we played on 4 fields and contributed about $1500 per charity – totaling nearly $6\,000. The kids had amazing sportsmanship\, learned a valuable lesson & were playing for a cause! We as a lax community received some nice press with the event and as it grows bigger I think we can use it as a highlight event for us all to grow the game. \nEvery team is guaranteed 2 games and the registration fees are as follows: \n1/2 & 3/4 $100\n5/6 $150\n7/8 $175\nHS $250 \nWe will have a trainer there all day as well as some fun activities and concessions. \nBeth King \nGirls Lacrosse Club of Frisco\nwww.friscofury.com\n972-971-4751 \nShare this:\n				Share on X (Opens in new window)\n				X\n			\n				Print (Opens in new window)\n				Print
URL:https://www.ntxlax.com/events/lax-gives-back-charity-playday/
LOCATION:B.F. Phillips Park\, 3335 Timber Ridge Dr\, Frisco\, TX\, 75034
CATEGORIES:Tournaments
ATTACH;FMTTYPE=image/png:https://www.ntxlax.com/wp-content/uploads/laxgivesback.png
ORGANIZER;CN="Girls Lacrosse Club of Frisco":MAILTO:programdirector@glcof.com
END:VEVENT
BEGIN:VEVENT
DTSTART;VALUE=DATE:20181005
DTEND;VALUE=DATE:20181008
DTSTAMP:20260423T134945
CREATED:20181005T050000Z
LAST-MODIFIED:20201215T130721Z
UID:261-1538697600-1538956799@www.ntxlax.com
SUMMARY:Laxtober in the Fort
DESCRIPTION:Havoc Girls Lacrosse Club in Fort Collins\, a non-profit lacrosse club based in Northern Colorado will host its first annual Laxtober in the Fort in early October 5-7. \nThis is a festival style\, round robin tournament meant to grow the game and have fun.  We plan to have age groups 14U\, 12U\, 10U\, and 8U and have a 4 game guarantee and we are considering 7v7 and 9v9 options if visiting teams cannot field full-size teams.  The tournament will be on Saturday Oct 6 with a get-together on Friday evening for teams to register and have dinner together. \nOctober 5-7\, 2018 \nTeams from Colorado and Surrounding States \nFort Collins\, Colorado \nPrice: \n$425 Early Bird. Ends Aug. 25 \n$475. Ends September 15.  \nLate registration $525. Ends October 1 \nShare this:\n				Share on X (Opens in new window)\n				X\n			\n				Print (Opens in new window)\n				Print
URL:https://www.ntxlax.com/events/laxtober-in-the-fort/
LOCATION:TX
CATEGORIES:Tournaments
ATTACH;FMTTYPE=image/png:https://www.ntxlax.com/wp-content/uploads/laxtober_in_the_fort.png
ORGANIZER;CN="Havoc Girls Lacrosse Club":MAILTO:sasha_elena@yahoo.com
END:VEVENT
BEGIN:VEVENT
DTSTART;VALUE=DATE:20180609
DTEND;VALUE=DATE:20180611
DTSTAMP:20260423T134945
CREATED:20180609T050000Z
LAST-MODIFIED:20201215T130756Z
UID:32-1528502400-1528675199@www.ntxlax.com
SUMMARY:Texas Draw
DESCRIPTION:Following our inaugural fall girls event this past November at the Cowboy Cup\, our staff is excited and encouraged by the future of girls lacrosse in Texas! We pride ourselves on hosting elite events at elite venues and delivering the total lacrosse experience. \nWe encourage you to join us this June 9-10 in Plano\, TX for what is sure to be a great kickoff to girls summer lacrosse in 2018. We have slashed prices in an effort to encourage inclusion and competition. The Texas Draw began as a boys event in 2012 and we’re pleased to include Girls teams in our 7th year this summer. \nShare this:\n				Share on X (Opens in new window)\n				X\n			\n				Print (Opens in new window)\n				Print
URL:https://www.ntxlax.com/events/texas-draw/
LOCATION:Russell Creek Park\, 3500 McDermott Road\, Plano\, TX\, 75025
CATEGORIES:Tournaments
ATTACH;FMTTYPE=image/png:https://www.ntxlax.com/wp-content/uploads/texas_draw.png
END:VEVENT
BEGIN:VEVENT
DTSTART;VALUE=DATE:20180602
DTEND;VALUE=DATE:20180604
DTSTAMP:20260423T134945
CREATED:20180602T050000Z
LAST-MODIFIED:20201215T130802Z
UID:116-1527897600-1528070399@www.ntxlax.com
SUMMARY:Texas Lax Festival II
DESCRIPTION:Girls: HS(2019-22)\, 2022 (14U)\, 2023 (13U)\, 2024 (12U) \nUS Lacrosse Nationals qualifying divisions: top brackets (A level) in the 14U\, 13U and 12U divisions \nWhen possible\, divisions will be split into A and B flights \nDivisions and brackets may be adjusted based on participating teams to ensure the best competition for all registered teams \nFree Agent Registration \nYou can register as a Free Agent by clicking the ‘Register’ button \nA jersey is included with registration \nFree Agents will either be placed on an existing registered team or on a Free Agent team consisting of all Free Agent players\, depending on the Free Agent pool size at each age level \nShare this:\n				Share on X (Opens in new window)\n				X\n			\n				Print (Opens in new window)\n				Print
URL:https://www.ntxlax.com/events/texas-lax-festival-ii/
LOCATION:Round Rock Multi-Purpose Complex\, 2001 N. Kenney Fort Blvd.\, Round Rock\, TX\, 78665
CATEGORIES:Tournaments
ATTACH;FMTTYPE=image/png:https://www.ntxlax.com/wp-content/uploads/tx_lax_fest.png
END:VEVENT
BEGIN:VEVENT
DTSTART;TZID=America/Chicago:20180520T130000
DTEND;TZID=America/Chicago:20180520T160000
DTSTAMP:20260423T134945
CREATED:20180520T180000Z
LAST-MODIFIED:20201215T130803Z
UID:154-1526821200-1526832000@www.ntxlax.com
SUMMARY:4th Annual Dallas One Love Tournament
DESCRIPTION:Please email to confirm your participation by May 1st to Molly Ford – email \nTeam Donation\nWe are asking that each team donates $250 to enter into the tournament using one of the methods below: \nChecks can be made out to the One Love Foundation.\nDonate to One Love online: www.joinonelove.org/donate\nVenmo: @OneLoveFoundation \nIn the “I GIVE BECAUSE” section please have all donors write “Dallas One Love Lacrosse Tournament” \nRules and Format\nThis is a boys vs. girls tournament. We recommend that each team has a minimum of 15 players (12 players on the field at a time). Each team must wear their reversible practice pennie. All teams will play using women’s lacrosse rules (no contact) and equipment. Each girl’s team will need to provide 15 extra sticks and goggles to loan to the boys’ teams. \nOne Love Foundation Mission\nThe One Love Foundation was started in 2010 to honor the memory of Yeardley Love\, who was a senior\, and member of the women’s lacrosse team at UVA when she was tragically killed by her ex-boyfriend\, just weeks shy of her graduation. Today\, nearly five years after Yeardley’s death\, One Love is doing more work than ever to achieve its goal of raising awareness among young people to end relationship violence. In the 3rd year of this tournament\, the goal is to bring together boys and girls to raise awareness at the high school level by having a fun\, non-traditional lacrosse tournament. \nScreening of Escalation\nIn addition to the tournament\, The One Love Foundation would like to extend an invitation to the parents\, coaches and players of the teams that are participating in this tournament to view the film entitled Escalation and participate in a workshop. Escalation is a 40 minute film that is the centerpiece of a 90 minute workshop that One Love is bringing to campuses across the country this year. One Love representatives will be in town the week prior to the tournament. Please contact Erica Becker (erica.becker@joinonelove.org) for more information. \nOne Love Ambassador\nRepresenting your school as an Ambassador is a great opportunity to earn community service hours while supporting an important mission while having a great time with your friends! As an Ambassador\, we ask that you support this event by: \n\nRecruiting a 15 player team with your school’s lacrosse coach.\nAsking each teammate to order a t-shirt. Text 469.644.7211 with name & size as you get order.\nRaising $100 or more through letter campaign and t-shirt sales.\nPromoting through social media the 4th annual Dallas One Love Tournament (content will be provided).\nAttending the tournament on May 20 from 1:00 – 4:00 at The Greenhill School.\n\nYou will earn 1 service hour for every $50.00 raised and for each hour you are at the tournament. Our goals include growing our Ambassador program. Please invite your friends (no lacrosse connection needed) to join us in educating\, fund raising\, and earning community service hours! \nIf your student is interested in being a Dallas One Love Lacrosse Tournament Ambassador\, please email Amara Durham at Amaradurham@gmail.com by April 15. \nOn behalf of The One Love Foundation\, thank you again for your participation. We hope to seeing everyone on May 20th! \nAll the best\, \nMolly \n—\nMolly Ford\nHockaday Girls Varsity Lacrosse Coach\n443-520-1493 \nShare this:\n				Share on X (Opens in new window)\n				X\n			\n				Print (Opens in new window)\n				Print
URL:https://www.ntxlax.com/events/4th-annual-dallas-one-love-tournament/
LOCATION:Greenhill School\, 4141 Spring Valley Road\, Addison\, TX\, 75001
CATEGORIES:Tournaments
ATTACH;FMTTYPE=image/png:https://www.ntxlax.com/wp-content/uploads/dallas_one_love.png
END:VEVENT
END:VCALENDAR