BEGIN:VCALENDAR
VERSION:2.0
PRODID:-//USA Lacrosse Texas Chapter - ECPv6.15.20//NONSGML v1.0//EN
CALSCALE:GREGORIAN
METHOD:PUBLISH
X-WR-CALNAME:USA Lacrosse Texas Chapter
X-ORIGINAL-URL:https://www.ntxlax.com
X-WR-CALDESC:Events for USA Lacrosse Texas Chapter
REFRESH-INTERVAL;VALUE=DURATION:PT1H
X-Robots-Tag:noindex
X-PUBLISHED-TTL:PT1H
BEGIN:VTIMEZONE
TZID:America/Chicago
BEGIN:DAYLIGHT
TZOFFSETFROM:-0600
TZOFFSETTO:-0500
TZNAME:CDT
DTSTART:20180311T080000
END:DAYLIGHT
BEGIN:STANDARD
TZOFFSETFROM:-0500
TZOFFSETTO:-0600
TZNAME:CST
DTSTART:20181104T070000
END:STANDARD
BEGIN:DAYLIGHT
TZOFFSETFROM:-0600
TZOFFSETTO:-0500
TZNAME:CDT
DTSTART:20190310T080000
END:DAYLIGHT
BEGIN:STANDARD
TZOFFSETFROM:-0500
TZOFFSETTO:-0600
TZNAME:CST
DTSTART:20191103T070000
END:STANDARD
BEGIN:DAYLIGHT
TZOFFSETFROM:-0600
TZOFFSETTO:-0500
TZNAME:CDT
DTSTART:20200308T080000
END:DAYLIGHT
BEGIN:STANDARD
TZOFFSETFROM:-0500
TZOFFSETTO:-0600
TZNAME:CST
DTSTART:20201101T070000
END:STANDARD
BEGIN:DAYLIGHT
TZOFFSETFROM:-0600
TZOFFSETTO:-0500
TZNAME:CDT
DTSTART:20210314T080000
END:DAYLIGHT
BEGIN:STANDARD
TZOFFSETFROM:-0500
TZOFFSETTO:-0600
TZNAME:CST
DTSTART:20211107T070000
END:STANDARD
END:VTIMEZONE
BEGIN:VEVENT
DTSTART;VALUE=DATE:20201201
DTEND;VALUE=DATE:20201202
DTSTAMP:20260423T105521
CREATED:20201201T060000Z
LAST-MODIFIED:20201215T130439Z
UID:1056-1606780800-1606867199@www.ntxlax.com
SUMMARY:Just Play Lax Winter 2020 7v7
DESCRIPTION:Just Play Winter 2020 is open to advanced current 7th/8th grade\, high school\, and college players.  \n7/8s will have a one hour game on Wednesdays between 6-8pm \nHS players will have a one hour game on Tuesdays and Thursdays between 6-8pm \nCollege players will have a one hour game on Tuesdays and Thursdays from 5-6pm \nShare this:\n				Share on X (Opens in new window)\n				X\n			\n				Print (Opens in new window)\n				Print
URL:https://www.ntxlax.com/events/just-play-lax-winter-2020-7v7/
LOCATION:Drive Nation Sports\, 2550 Rental Car Drive\, Dallas\, TX\, 75261
CATEGORIES:League
ATTACH;FMTTYPE=image/png:https://www.ntxlax.com/wp-content/uploads/justplaylaxfall2020.png
ORGANIZER;CN="Just Play":MAILTO:info@justplaylax.com
END:VEVENT
BEGIN:VEVENT
DTSTART;VALUE=DATE:20200920
DTEND;VALUE=DATE:20200921
DTSTAMP:20260423T105521
CREATED:20200917T113040Z
LAST-MODIFIED:20200917T113350Z
UID:855-1600560000-1600646399@www.ntxlax.com
SUMMARY:214 Future Stars Program
DESCRIPTION:Share this:\n				Share on X (Opens in new window)\n				X\n			\n				Print (Opens in new window)\n				Print
URL:https://www.ntxlax.com/events/214-future-stars-program/
LOCATION:TX
CATEGORIES:League
ATTACH;FMTTYPE=image/jpeg:https://www.ntxlax.com/wp-content/uploads/214_future.jpg
ORGANIZER;CN="214 Lacrosse":MAILTO:MEMBERSHIP@214LACROSSE.COM
END:VEVENT
BEGIN:VEVENT
DTSTART;VALUE=DATE:20200912
DTEND;VALUE=DATE:20200913
DTSTAMP:20260423T105521
CREATED:20200912T050000Z
LAST-MODIFIED:20201215T130502Z
UID:847-1599868800-1599955199@www.ntxlax.com
SUMMARY:Just Play Lax League Fall 2020
DESCRIPTION:Registration is open! \nGet ready for an exciting fall! Games start in just 2 weeks! \nSmaller fields\, faster pace\, fewer players and more action! 7v7 game play is the future of the sport! \nWith just 12 total field players in a 25yd X 65yd playing area\, each Just Play player will receive maximum touches on the ball. More touches in a game setting means more opportunity for development and more opportunity to try new moves. Players will be more willing to be creative and less afraid to make mistakes – a perfect combination to improve your game and prepare for the spring season. \nGame Dates:  9/12\, 9/19\, 9/26\, 10/3\, 10/10\, 10/17\, 10/23 (fri)\, 10/31\, 11/7\, 11/14 \nLocation: Grapevine Faith High School – 729 E Dallas Rd\, Grapevine\, TX 76051 \nGame times will be confirmed the week prior to 9/12. We anticipate the younger groups playing earlier and the older groups playing later. \nRegistration Fees: \n1/2 – $99 \n3/4 – $149 \n5/6 – $199 \n7/8 – $229 \nHS – $249 \nRegistration fees include 10 games\, a reversible game jersey\, and a youth clinic (date TBD). \nThis season\, we want to highlight skill and effort on the field! Each Saturday\, players will have the opportunity to nominate the most impressive offensive player\, defensive player\, and effort player on the opposing team. At the end of the season\, players with the most nominations will receive recognition. \nImportantly\, we will be working closely with the facility staff as well as medical professionals to have protocol in place to address player and spectator safe/healthy. Temperature checks and symptom check lists will be completed as families walk through the main entrance to the field. \nAs always\, please reach out should you have questions about playing format\, teams\, schedule\, payment terms or anything else. \nShare this:\n				Share on X (Opens in new window)\n				X\n			\n				Print (Opens in new window)\n				Print
URL:https://www.ntxlax.com/events/just-play-lax-league-fall-2020/
LOCATION:Grapevine Faith School
CATEGORIES:League
ATTACH;FMTTYPE=image/png:https://www.ntxlax.com/wp-content/uploads/justplaylaxfall2020.png
ORGANIZER;CN="Just Play":MAILTO:info@justplaylax.com
END:VEVENT
BEGIN:VEVENT
DTSTART;VALUE=DATE:20190914
DTEND;VALUE=DATE:20190915
DTSTAMP:20260423T105521
CREATED:20190914T050000Z
LAST-MODIFIED:20201215T130532Z
UID:702-1568419200-1568505599@www.ntxlax.com
SUMMARY:Just Play Fall Lacrosse League
DESCRIPTION:The purpose of the Just Play lacrosse league is to provide an easy opportunity for girls to sign up and just play.  The goal is for players to have fun and get better with less running\, more ball touches and more playing time within a smaller 7v7 format.  This league is great supplemental training to the fall community team season and is also a unique chance to have fun competing in a new way in North Texas.  No practices.  Just games.  Just Play! \nGame times and game schedule for each age group will be announced weekly. \nShare this:\n				Share on X (Opens in new window)\n				X\n			\n				Print (Opens in new window)\n				Print
URL:https://www.ntxlax.com/events/just-play-fall-lacrosse-league/
LOCATION:Carroll MIddle School
CATEGORIES:League
ATTACH;FMTTYPE=image/png:https://www.ntxlax.com/wp-content/uploads/just_play_fall.png
ORGANIZER;CN="Just Play":MAILTO:info@justplaylax.com
END:VEVENT
END:VCALENDAR