BEGIN:VCALENDAR
VERSION:2.0
PRODID:-//USA Lacrosse Texas Chapter - ECPv6.15.20//NONSGML v1.0//EN
CALSCALE:GREGORIAN
METHOD:PUBLISH
X-WR-CALNAME:USA Lacrosse Texas Chapter
X-ORIGINAL-URL:https://www.ntxlax.com
X-WR-CALDESC:Events for USA Lacrosse Texas Chapter
REFRESH-INTERVAL;VALUE=DURATION:PT1H
X-Robots-Tag:noindex
X-PUBLISHED-TTL:PT1H
BEGIN:VTIMEZONE
TZID:America/Chicago
BEGIN:DAYLIGHT
TZOFFSETFROM:-0600
TZOFFSETTO:-0500
TZNAME:CDT
DTSTART:20220313T080000
END:DAYLIGHT
BEGIN:STANDARD
TZOFFSETFROM:-0500
TZOFFSETTO:-0600
TZNAME:CST
DTSTART:20221106T070000
END:STANDARD
BEGIN:DAYLIGHT
TZOFFSETFROM:-0600
TZOFFSETTO:-0500
TZNAME:CDT
DTSTART:20230312T080000
END:DAYLIGHT
BEGIN:STANDARD
TZOFFSETFROM:-0500
TZOFFSETTO:-0600
TZNAME:CST
DTSTART:20231105T070000
END:STANDARD
BEGIN:DAYLIGHT
TZOFFSETFROM:-0600
TZOFFSETTO:-0500
TZNAME:CDT
DTSTART:20240310T080000
END:DAYLIGHT
BEGIN:STANDARD
TZOFFSETFROM:-0500
TZOFFSETTO:-0600
TZNAME:CST
DTSTART:20241103T070000
END:STANDARD
END:VTIMEZONE
BEGIN:VEVENT
DTSTART;TZID=America/Chicago:20230326T123000
DTEND;TZID=America/Chicago:20230326T153000
DTSTAMP:20260423T174543
CREATED:20230128T000126Z
LAST-MODIFIED:20230128T000126Z
UID:12221-1679833800-1679844600@www.ntxlax.com
SUMMARY:Westlake @ Southlake - Varsity Boys
DESCRIPTION:Share this:\n				Share on X (Opens in new window)\n				X\n			\n				Print (Opens in new window)\n				Print
URL:https://www.ntxlax.com/events/westlake-southlake-varsity-boys/
CATEGORIES:Game
END:VEVENT
BEGIN:VEVENT
DTSTART;TZID=America/Chicago:20230325T160000
DTEND;TZID=America/Chicago:20230325T190000
DTSTAMP:20260423T174543
CREATED:20230125T204041Z
LAST-MODIFIED:20230125T204041Z
UID:11963-1679760000-1679770800@www.ntxlax.com
SUMMARY:Round Rock @ Atascocita - Varsity Boys
DESCRIPTION:Share this:\n				Share on X (Opens in new window)\n				X\n			\n				Print (Opens in new window)\n				Print
URL:https://www.ntxlax.com/events/round-rock-atascocita-varsity-boys/
CATEGORIES:Game
END:VEVENT
BEGIN:VEVENT
DTSTART;TZID=America/Chicago:20230325T143000
DTEND;TZID=America/Chicago:20230325T173000
DTSTAMP:20260423T174543
CREATED:20230127T062927Z
LAST-MODIFIED:20230127T062927Z
UID:12100-1679754600-1679765400@www.ntxlax.com
SUMMARY:Magnolia @ Woodlands Red - Varsity Boys
DESCRIPTION:Share this:\n				Share on X (Opens in new window)\n				X\n			\n				Print (Opens in new window)\n				Print
URL:https://www.ntxlax.com/events/magnolia-woodlands-red-varsity-boys/
CATEGORIES:Game
END:VEVENT
BEGIN:VEVENT
DTSTART;TZID=America/Chicago:20230325T140000
DTEND;TZID=America/Chicago:20230325T170000
DTSTAMP:20260423T174543
CREATED:20230125T203859Z
LAST-MODIFIED:20230125T213524Z
UID:11961-1679752800-1679763600@www.ntxlax.com
SUMMARY:Round Rock @ Cypress - Varsity Boys
DESCRIPTION:Share this:\n				Share on X (Opens in new window)\n				X\n			\n				Print (Opens in new window)\n				Print
URL:https://www.ntxlax.com/events/round-rock-cypress-varsity-boys/
CATEGORIES:Game
END:VEVENT
BEGIN:VEVENT
DTSTART;TZID=America/Chicago:20230325T123000
DTEND;TZID=America/Chicago:20230325T153000
DTSTAMP:20260423T174543
CREATED:20230128T002340Z
LAST-MODIFIED:20230128T002340Z
UID:12247-1679747400-1679758200@www.ntxlax.com
SUMMARY:Reagan @ Antonian - Varsity Girls
DESCRIPTION:Share this:\n				Share on X (Opens in new window)\n				X\n			\n				Print (Opens in new window)\n				Print
URL:https://www.ntxlax.com/events/reagan-antonian-varsity-girls-2/
CATEGORIES:Game
END:VEVENT
BEGIN:VEVENT
DTSTART;TZID=America/Chicago:20230325T120000
DTEND;TZID=America/Chicago:20230325T150000
DTSTAMP:20260423T174543
CREATED:20230127T235946Z
LAST-MODIFIED:20230127T235946Z
UID:12219-1679745600-1679756400@www.ntxlax.com
SUMMARY:St. Alban's @ Southlake - Varsity Boys
DESCRIPTION:Share this:\n				Share on X (Opens in new window)\n				X\n			\n				Print (Opens in new window)\n				Print
URL:https://www.ntxlax.com/events/st-albans-southlake-varsity-boys/
CATEGORIES:Game
END:VEVENT
BEGIN:VEVENT
DTSTART;TZID=America/Chicago:20230324T193000
DTEND;TZID=America/Chicago:20230324T223000
DTSTAMP:20260423T174543
CREATED:20230128T002245Z
LAST-MODIFIED:20230128T002245Z
UID:12245-1679686200-1679697000@www.ntxlax.com
SUMMARY:Reagan @ East Central - Varsity Girls
DESCRIPTION:Share this:\n				Share on X (Opens in new window)\n				X\n			\n				Print (Opens in new window)\n				Print
URL:https://www.ntxlax.com/events/reagan-east-central-varsity-girls/
CATEGORIES:Game
END:VEVENT
BEGIN:VEVENT
DTSTART;TZID=America/Chicago:20230324T193000
DTEND;TZID=America/Chicago:20230324T223000
DTSTAMP:20260423T174543
CREATED:20230125T231841Z
LAST-MODIFIED:20230125T231841Z
UID:12020-1679686200-1679697000@www.ntxlax.com
SUMMARY:Cypress @ Memorial - Varsity Boys
DESCRIPTION:Share this:\n				Share on X (Opens in new window)\n				X\n			\n				Print (Opens in new window)\n				Print
URL:https://www.ntxlax.com/events/cypress-memorial-varsity-boys/
CATEGORIES:Game
END:VEVENT
BEGIN:VEVENT
DTSTART;TZID=America/Chicago:20230323T193000
DTEND;TZID=America/Chicago:20230323T223000
DTSTAMP:20260423T174543
CREATED:20230127T062816Z
LAST-MODIFIED:20230127T062816Z
UID:12098-1679599800-1679610600@www.ntxlax.com
SUMMARY:Kinkaid @ Woodlands Green - Varsity Boys
DESCRIPTION:Share this:\n				Share on X (Opens in new window)\n				X\n			\n				Print (Opens in new window)\n				Print
URL:https://www.ntxlax.com/events/kinkaid-woodlands-green-varsity-boys/
CATEGORIES:Game
END:VEVENT
BEGIN:VEVENT
DTSTART;TZID=America/Chicago:20230323T190000
DTEND;TZID=America/Chicago:20230323T220000
DTSTAMP:20260423T174543
CREATED:20230125T034321Z
LAST-MODIFIED:20230125T034321Z
UID:11916-1679598000-1679608800@www.ntxlax.com
SUMMARY:East Central @ Alamo Heights - Varsity Boys
DESCRIPTION:Share this:\n				Share on X (Opens in new window)\n				X\n			\n				Print (Opens in new window)\n				Print
URL:https://www.ntxlax.com/events/east-central-alamo-heights-varsity-boys/
CATEGORIES:Game
END:VEVENT
BEGIN:VEVENT
DTSTART;VALUE=DATE:20230323
DTEND;VALUE=DATE:20230324
DTSTAMP:20260423T174543
CREATED:20230127T164435Z
LAST-MODIFIED:20230127T164435Z
UID:12170-1679529600-1679615999@www.ntxlax.com
SUMMARY:Southlake @ Flower Mound - Varsity Girls
DESCRIPTION:Share this:\n				Share on X (Opens in new window)\n				X\n			\n				Print (Opens in new window)\n				Print
URL:https://www.ntxlax.com/events/southlake-flower-mound-varsity-girls/
CATEGORIES:Game
END:VEVENT
BEGIN:VEVENT
DTSTART;TZID=America/Chicago:20230322T190000
DTEND;TZID=America/Chicago:20230322T220000
DTSTAMP:20260423T174543
CREATED:20230127T170223Z
LAST-MODIFIED:20230127T170223Z
UID:12185-1679511600-1679522400@www.ntxlax.com
SUMMARY:Hockaday @ McKinney - Varsity Girls
DESCRIPTION:Share this:\n				Share on X (Opens in new window)\n				X\n			\n				Print (Opens in new window)\n				Print
URL:https://www.ntxlax.com/events/hockaday-mckinney-varsity-girls/
CATEGORIES:Game
END:VEVENT
BEGIN:VEVENT
DTSTART;TZID=America/Chicago:20230321T193000
DTEND;TZID=America/Chicago:20230321T223000
DTSTAMP:20260423T174543
CREATED:20230127T062644Z
LAST-MODIFIED:20230127T062644Z
UID:12096-1679427000-1679437800@www.ntxlax.com
SUMMARY:Woodlands Red @ Kingwood - Varsity Boys
DESCRIPTION:Share this:\n				Share on X (Opens in new window)\n				X\n			\n				Print (Opens in new window)\n				Print
URL:https://www.ntxlax.com/events/woodlands-red-kingwood-varsity-boys/
CATEGORIES:Game
END:VEVENT
BEGIN:VEVENT
DTSTART;TZID=America/Chicago:20230319T150000
DTEND;TZID=America/Chicago:20230319T180000
DTSTAMP:20260423T174543
CREATED:20230125T230112Z
LAST-MODIFIED:20230125T230112Z
UID:11996-1679238000-1679248800@www.ntxlax.com
SUMMARY:Baylor @ UT Wlax
DESCRIPTION:Share this:\n				Share on X (Opens in new window)\n				X\n			\n				Print (Opens in new window)\n				Print
URL:https://www.ntxlax.com/events/baylor-ut-wlax/
CATEGORIES:Game
END:VEVENT
BEGIN:VEVENT
DTSTART;TZID=America/Chicago:20230316T190000
DTEND;TZID=America/Chicago:20230316T220000
DTSTAMP:20260423T174543
CREATED:20230127T170340Z
LAST-MODIFIED:20230127T170340Z
UID:12187-1678993200-1679004000@www.ntxlax.com
SUMMARY:Rockwall @ McKinney - Varsity Girls
DESCRIPTION:Share this:\n				Share on X (Opens in new window)\n				X\n			\n				Print (Opens in new window)\n				Print
URL:https://www.ntxlax.com/events/rockwall-mckinney-varsity-girls/
CATEGORIES:Game
END:VEVENT
BEGIN:VEVENT
DTSTART;TZID=America/Chicago:20230314T183000
DTEND;TZID=America/Chicago:20230314T213000
DTSTAMP:20260423T174543
CREATED:20230127T235644Z
LAST-MODIFIED:20230127T235644Z
UID:12217-1678818600-1678829400@www.ntxlax.com
SUMMARY:Southlake @ San Marcos - Varsity Boys
DESCRIPTION:Share this:\n				Share on X (Opens in new window)\n				X\n			\n				Print (Opens in new window)\n				Print
URL:https://www.ntxlax.com/events/southlake-san-marcos-varsity-boys/
CATEGORIES:Game
END:VEVENT
BEGIN:VEVENT
DTSTART;TZID=America/Chicago:20230314T183000
DTEND;TZID=America/Chicago:20230314T213000
DTSTAMP:20260423T174543
CREATED:20230127T162259Z
LAST-MODIFIED:20230127T162259Z
UID:12145-1678818600-1678829400@www.ntxlax.com
SUMMARY:St. Mary's Hall @ Alamo Heights - Varsity Girls
DESCRIPTION:Share this:\n				Share on X (Opens in new window)\n				X\n			\n				Print (Opens in new window)\n				Print
URL:https://www.ntxlax.com/events/st-marys-hall-alamo-heights-varsity-girls/
CATEGORIES:Game
END:VEVENT
BEGIN:VEVENT
DTSTART;TZID=America/Chicago:20230313T170000
DTEND;TZID=America/Chicago:20230313T200000
DTSTAMP:20260423T174543
CREATED:20230127T235120Z
LAST-MODIFIED:20230127T235120Z
UID:12215-1678726800-1678737600@www.ntxlax.com
SUMMARY:Southlake @ Coronado - Varsity Boys
DESCRIPTION:Share this:\n				Share on X (Opens in new window)\n				X\n			\n				Print (Opens in new window)\n				Print
URL:https://www.ntxlax.com/events/southlake-coronado-varsity-boys/
CATEGORIES:Game
END:VEVENT
BEGIN:VEVENT
DTSTART;TZID=America/Chicago:20230311T190000
DTEND;TZID=America/Chicago:20230311T220000
DTSTAMP:20260423T174543
CREATED:20230127T234953Z
LAST-MODIFIED:20230127T234953Z
UID:12213-1678561200-1678572000@www.ntxlax.com
SUMMARY:Southlake @ La Costa Canyon - Varsity Boys
DESCRIPTION:Share this:\n				Share on X (Opens in new window)\n				X\n			\n				Print (Opens in new window)\n				Print
URL:https://www.ntxlax.com/events/southlake-la-costa-canyon-varsity-boys/
CATEGORIES:Game
END:VEVENT
BEGIN:VEVENT
DTSTART;TZID=America/Chicago:20230308T193000
DTEND;TZID=America/Chicago:20230308T223000
DTSTAMP:20260423T174543
CREATED:20230127T234819Z
LAST-MODIFIED:20230127T234819Z
UID:12211-1678303800-1678314600@www.ntxlax.com
SUMMARY:ESD @ Southlake - Varsity Boys
DESCRIPTION:Share this:\n				Share on X (Opens in new window)\n				X\n			\n				Print (Opens in new window)\n				Print
URL:https://www.ntxlax.com/events/esd-southlake-varsity-boys/
CATEGORIES:Game
END:VEVENT
BEGIN:VEVENT
DTSTART;TZID=America/Chicago:20230308T190000
DTEND;TZID=America/Chicago:20230308T220000
DTSTAMP:20260423T174543
CREATED:20230202T232824Z
LAST-MODIFIED:20230202T232824Z
UID:12393-1678302000-1678312800@www.ntxlax.com
SUMMARY:Grapevine @ Trinity Valley - Varsity Boys
DESCRIPTION:Share this:\n				Share on X (Opens in new window)\n				X\n			\n				Print (Opens in new window)\n				Print
URL:https://www.ntxlax.com/events/grapevine-trinity-valley-varsity-boys/
CATEGORIES:Game
END:VEVENT
BEGIN:VEVENT
DTSTART;TZID=America/Chicago:20230307T193000
DTEND;TZID=America/Chicago:20230307T223000
DTSTAMP:20260423T174543
CREATED:20230125T231600Z
LAST-MODIFIED:20230125T231600Z
UID:12017-1678217400-1678228200@www.ntxlax.com
SUMMARY:Cypress @ Episcopal Houston - Varsity Boys
DESCRIPTION:Share this:\n				Share on X (Opens in new window)\n				X\n			\n				Print (Opens in new window)\n				Print
URL:https://www.ntxlax.com/events/cypress-episcopal-houston-varsity-boys/
CATEGORIES:Game
END:VEVENT
BEGIN:VEVENT
DTSTART;TZID=America/Chicago:20230307T190000
DTEND;TZID=America/Chicago:20230307T220000
DTSTAMP:20260423T174543
CREATED:20230202T232725Z
LAST-MODIFIED:20230202T232950Z
UID:12391-1678215600-1678226400@www.ntxlax.com
SUMMARY:Frisco @ Grapevine - Varsity Boys
DESCRIPTION:Share this:\n				Share on X (Opens in new window)\n				X\n			\n				Print (Opens in new window)\n				Print
URL:https://www.ntxlax.com/events/grapevine-frisco-varsity-boys/
CATEGORIES:Game
END:VEVENT
BEGIN:VEVENT
DTSTART;TZID=America/Chicago:20230306T180000
DTEND;TZID=America/Chicago:20230306T210000
DTSTAMP:20260423T174543
CREATED:20230128T160019Z
LAST-MODIFIED:20230128T160019Z
UID:12277-1678125600-1678136400@www.ntxlax.com
SUMMARY:Canyon @ St. Mary's Hall - Varsity Girls
DESCRIPTION:Share this:\n				Share on X (Opens in new window)\n				X\n			\n				Print (Opens in new window)\n				Print
URL:https://www.ntxlax.com/events/canyon-st-marys-hall-varsity-girls/
CATEGORIES:Game
END:VEVENT
BEGIN:VEVENT
DTSTART;TZID=America/Chicago:20230305T160000
DTEND;TZID=America/Chicago:20230305T190000
DTSTAMP:20260423T174543
CREATED:20230127T062247Z
LAST-MODIFIED:20230127T062247Z
UID:12090-1678032000-1678042800@www.ntxlax.com
SUMMARY:Highland Park @ Woodlands Red - Varsity Boys
DESCRIPTION:Share this:\n				Share on X (Opens in new window)\n				X\n			\n				Print (Opens in new window)\n				Print
URL:https://www.ntxlax.com/events/highland-park-woodlands-red-varsity-boys/
CATEGORIES:Game
END:VEVENT
BEGIN:VEVENT
DTSTART;TZID=America/Chicago:20230305T140000
DTEND;TZID=America/Chicago:20230305T170000
DTSTAMP:20260423T174543
CREATED:20230127T062141Z
LAST-MODIFIED:20230127T062141Z
UID:12088-1678024800-1678035600@www.ntxlax.com
SUMMARY:Highland Park @ Woodlands Green - Varsity Boys
DESCRIPTION:Share this:\n				Share on X (Opens in new window)\n				X\n			\n				Print (Opens in new window)\n				Print
URL:https://www.ntxlax.com/events/highland-park-woodlands-green-varsity-boys/
CATEGORIES:Game
END:VEVENT
BEGIN:VEVENT
DTSTART;TZID=America/Chicago:20230304T173000
DTEND;TZID=America/Chicago:20230304T203000
DTSTAMP:20260423T174543
CREATED:20230127T062040Z
LAST-MODIFIED:20230127T062040Z
UID:12086-1677951000-1677961800@www.ntxlax.com
SUMMARY:Friendswood @ Woodlands Red - Varsity Boys
DESCRIPTION:Share this:\n				Share on X (Opens in new window)\n				X\n			\n				Print (Opens in new window)\n				Print
URL:https://www.ntxlax.com/events/friendswood-woodlands-red-varsity-boys/
CATEGORIES:Game
END:VEVENT
BEGIN:VEVENT
DTSTART;TZID=America/Chicago:20230304T160000
DTEND;TZID=America/Chicago:20230304T190000
DTSTAMP:20260423T174543
CREATED:20230127T162609Z
LAST-MODIFIED:20230127T162609Z
UID:12151-1677945600-1677956400@www.ntxlax.com
SUMMARY:Anderson @ Alamo Heights - Varsity Girls
DESCRIPTION:Share this:\n				Share on X (Opens in new window)\n				X\n			\n				Print (Opens in new window)\n				Print
URL:https://www.ntxlax.com/events/anderson-alamo-heights-varsity-girls/
CATEGORIES:Game
END:VEVENT
BEGIN:VEVENT
DTSTART;TZID=America/Chicago:20230304T133000
DTEND;TZID=America/Chicago:20230304T163000
DTSTAMP:20260423T174543
CREATED:20230125T034139Z
LAST-MODIFIED:20230125T034413Z
UID:11914-1677936600-1677947400@www.ntxlax.com
SUMMARY:Gateway @ Alamo Heights - Varsity Boys
DESCRIPTION:Share this:\n				Share on X (Opens in new window)\n				X\n			\n				Print (Opens in new window)\n				Print
URL:https://www.ntxlax.com/events/gateway-alamo-heights/
CATEGORIES:Game
END:VEVENT
BEGIN:VEVENT
DTSTART;TZID=America/Chicago:20230304T120000
DTEND;TZID=America/Chicago:20230304T150000
DTSTAMP:20260423T174543
CREATED:20230125T225917Z
LAST-MODIFIED:20230125T225917Z
UID:11994-1677931200-1677942000@www.ntxlax.com
SUMMARY:SMU @ UT Wlax
DESCRIPTION:Share this:\n				Share on X (Opens in new window)\n				X\n			\n				Print (Opens in new window)\n				Print
URL:https://www.ntxlax.com/events/smu-ut-wlax/
CATEGORIES:Game
END:VEVENT
END:VCALENDAR