BEGIN:VCALENDAR
VERSION:2.0
PRODID:-//USA Lacrosse Texas Chapter - ECPv6.15.20//NONSGML v1.0//EN
CALSCALE:GREGORIAN
METHOD:PUBLISH
X-WR-CALNAME:USA Lacrosse Texas Chapter
X-ORIGINAL-URL:https://www.ntxlax.com
X-WR-CALDESC:Events for USA Lacrosse Texas Chapter
REFRESH-INTERVAL;VALUE=DURATION:PT1H
X-Robots-Tag:noindex
X-PUBLISHED-TTL:PT1H
BEGIN:VTIMEZONE
TZID:America/Chicago
BEGIN:DAYLIGHT
TZOFFSETFROM:-0600
TZOFFSETTO:-0500
TZNAME:CDT
DTSTART:20220313T080000
END:DAYLIGHT
BEGIN:STANDARD
TZOFFSETFROM:-0500
TZOFFSETTO:-0600
TZNAME:CST
DTSTART:20221106T070000
END:STANDARD
BEGIN:DAYLIGHT
TZOFFSETFROM:-0600
TZOFFSETTO:-0500
TZNAME:CDT
DTSTART:20230312T080000
END:DAYLIGHT
BEGIN:STANDARD
TZOFFSETFROM:-0500
TZOFFSETTO:-0600
TZNAME:CST
DTSTART:20231105T070000
END:STANDARD
BEGIN:DAYLIGHT
TZOFFSETFROM:-0600
TZOFFSETTO:-0500
TZNAME:CDT
DTSTART:20240310T080000
END:DAYLIGHT
BEGIN:STANDARD
TZOFFSETFROM:-0500
TZOFFSETTO:-0600
TZNAME:CST
DTSTART:20241103T070000
END:STANDARD
END:VTIMEZONE
BEGIN:VEVENT
DTSTART;TZID=America/Chicago:20230402T150000
DTEND;TZID=America/Chicago:20230402T180000
DTSTAMP:20260423T150554
CREATED:20230128T002502Z
LAST-MODIFIED:20230128T002502Z
UID:12249-1680447600-1680458400@www.ntxlax.com
SUMMARY:Reagan @ Dripping Springs - Varsity Girls
DESCRIPTION:Share this:\n				Share on X (Opens in new window)\n				X\n			\n				Print (Opens in new window)\n				Print
URL:https://www.ntxlax.com/events/reagan-dripping-springs-varsity-girls/
CATEGORIES:Game
END:VEVENT
BEGIN:VEVENT
DTSTART;TZID=America/Chicago:20230402T140000
DTEND;TZID=America/Chicago:20230402T170000
DTSTAMP:20260423T150554
CREATED:20230125T232322Z
LAST-MODIFIED:20230125T232322Z
UID:12024-1680444000-1680454800@www.ntxlax.com
SUMMARY:Dripping Springs @ Cypress - Varsity Boys
DESCRIPTION:Share this:\n				Share on X (Opens in new window)\n				X\n			\n				Print (Opens in new window)\n				Print
URL:https://www.ntxlax.com/events/dripping-springs-cypress-varsity-boys/
CATEGORIES:Game
END:VEVENT
BEGIN:VEVENT
DTSTART;TZID=America/Chicago:20230402T130000
DTEND;TZID=America/Chicago:20230402T160000
DTSTAMP:20260423T150554
CREATED:20230127T063640Z
LAST-MODIFIED:20230127T063640Z
UID:12110-1680440400-1680451200@www.ntxlax.com
SUMMARY:Southlake @ Woodlands Green - Varsity Boys
DESCRIPTION:Share this:\n				Share on X (Opens in new window)\n				X\n			\n				Print (Opens in new window)\n				Print
URL:https://www.ntxlax.com/events/southlake-woodlands-green-varsity-boys/
CATEGORIES:Game
END:VEVENT
BEGIN:VEVENT
DTSTART;TZID=America/Chicago:20230401T170000
DTEND;TZID=America/Chicago:20230401T200000
DTSTAMP:20260423T150554
CREATED:20230127T063515Z
LAST-MODIFIED:20230127T063515Z
UID:12108-1680368400-1680379200@www.ntxlax.com
SUMMARY:Woodlands Red @ Ridge Point - Varsity Boys
DESCRIPTION:Share this:\n				Share on X (Opens in new window)\n				X\n			\n				Print (Opens in new window)\n				Print
URL:https://www.ntxlax.com/events/woodlands-red-ridge-point-varsity-boys/
CATEGORIES:Game
END:VEVENT
BEGIN:VEVENT
DTSTART;TZID=America/Chicago:20230401T140000
DTEND;TZID=America/Chicago:20230401T170000
DTSTAMP:20260423T150554
CREATED:20230127T063418Z
LAST-MODIFIED:20230127T063418Z
UID:12106-1680357600-1680368400@www.ntxlax.com
SUMMARY:Dripping Springs @ Woodlands Green
DESCRIPTION:Share this:\n				Share on X (Opens in new window)\n				X\n			\n				Print (Opens in new window)\n				Print
URL:https://www.ntxlax.com/events/dripping-springs-woodlands-green/
CATEGORIES:Game
END:VEVENT
BEGIN:VEVENT
DTSTART;TZID=America/Chicago:20230401T123000
DTEND;TZID=America/Chicago:20230401T153000
DTSTAMP:20260423T150554
CREATED:20230125T034753Z
LAST-MODIFIED:20230125T034753Z
UID:11921-1680352200-1680363000@www.ntxlax.com
SUMMARY:Vandergrift @ Alamo Heights - Varsity Boys
DESCRIPTION:Share this:\n				Share on X (Opens in new window)\n				X\n			\n				Print (Opens in new window)\n				Print
URL:https://www.ntxlax.com/events/vandergrift-alamo-heights-varsity-boys/
CATEGORIES:Game
END:VEVENT
BEGIN:VEVENT
DTSTART;TZID=America/Chicago:20230401T120000
DTEND;TZID=America/Chicago:20230401T150000
DTSTAMP:20260423T150554
CREATED:20230127T162811Z
LAST-MODIFIED:20230127T162811Z
UID:12155-1680350400-1680361200@www.ntxlax.com
SUMMARY:Alamo Heights @ Dripping Springs - Varsity Girls
DESCRIPTION:Share this:\n				Share on X (Opens in new window)\n				X\n			\n				Print (Opens in new window)\n				Print
URL:https://www.ntxlax.com/events/alamo-heights-dripping-springs-varsity-girls/
CATEGORIES:Game
END:VEVENT
BEGIN:VEVENT
DTSTART;TZID=America/Chicago:20230401T110000
DTEND;TZID=America/Chicago:20230401T140000
DTSTAMP:20260423T150554
CREATED:20230202T233137Z
LAST-MODIFIED:20230202T233137Z
UID:12399-1680346800-1680357600@www.ntxlax.com
SUMMARY:Grapevine @ Ft. Worth Country Day - Varsity Boys
DESCRIPTION:Share this:\n				Share on X (Opens in new window)\n				X\n			\n				Print (Opens in new window)\n				Print
URL:https://www.ntxlax.com/events/grapevine-ft-worth-country-day-varsity-boys/
CATEGORIES:Game
END:VEVENT
BEGIN:VEVENT
DTSTART;VALUE=DATE:20230401
DTEND;VALUE=DATE:20230402
DTSTAMP:20260423T150554
CREATED:20230127T164915Z
LAST-MODIFIED:20230127T164915Z
UID:12173-1680307200-1680393599@www.ntxlax.com
SUMMARY:Flower Mound @ St. Michael's/Cy-Fair - Varsity Girls
DESCRIPTION:Share this:\n				Share on X (Opens in new window)\n				X\n			\n				Print (Opens in new window)\n				Print
URL:https://www.ntxlax.com/events/flower-mound-st-michaels-cy-fair-varsity-girls/
CATEGORIES:Game
END:VEVENT
BEGIN:VEVENT
DTSTART;TZID=America/Chicago:20230331T193000
DTEND;TZID=America/Chicago:20230331T223000
DTSTAMP:20260423T150554
CREATED:20230128T000532Z
LAST-MODIFIED:20230128T000647Z
UID:12223-1680291000-1680301800@www.ntxlax.com
SUMMARY:Southlake @ Coppell - Varsity Boys
DESCRIPTION:Share this:\n				Share on X (Opens in new window)\n				X\n			\n				Print (Opens in new window)\n				Print
URL:https://www.ntxlax.com/events/southlake-coppell-varsity-boys/
CATEGORIES:Game
END:VEVENT
BEGIN:VEVENT
DTSTART;TZID=America/Chicago:20230330T193000
DTEND;TZID=America/Chicago:20230330T223000
DTSTAMP:20260423T150554
CREATED:20230127T063225Z
LAST-MODIFIED:20230127T063225Z
UID:12104-1680204600-1680215400@www.ntxlax.com
SUMMARY:Oregon Jesuit @ Woodlands Green - Varsity Boys
DESCRIPTION:Share this:\n				Share on X (Opens in new window)\n				X\n			\n				Print (Opens in new window)\n				Print
URL:https://www.ntxlax.com/events/oregon-jesuit-woodlands-green-varsity-boys/
CATEGORIES:Game
END:VEVENT
BEGIN:VEVENT
DTSTART;TZID=America/Chicago:20230330T190000
DTEND;TZID=America/Chicago:20230330T220000
DTSTAMP:20260423T150554
CREATED:20230127T170549Z
LAST-MODIFIED:20230127T170549Z
UID:12191-1680202800-1680213600@www.ntxlax.com
SUMMARY:McKinney @ Southlake - Varsity Girls
DESCRIPTION:Share this:\n				Share on X (Opens in new window)\n				X\n			\n				Print (Opens in new window)\n				Print
URL:https://www.ntxlax.com/events/mckinney-southlake-varsity-girls/
CATEGORIES:Game
END:VEVENT
BEGIN:VEVENT
DTSTART;TZID=America/Chicago:20230330T190000
DTEND;TZID=America/Chicago:20230330T220000
DTSTAMP:20260423T150554
CREATED:20230125T034527Z
LAST-MODIFIED:20230125T034527Z
UID:11919-1680202800-1680213600@www.ntxlax.com
SUMMARY:Reagan @ Alamo Heights - Varsity Boys
DESCRIPTION:Share this:\n				Share on X (Opens in new window)\n				X\n			\n				Print (Opens in new window)\n				Print
URL:https://www.ntxlax.com/events/reagan-alamo-heights-varsity-boys/
CATEGORIES:Game
END:VEVENT
BEGIN:VEVENT
DTSTART;TZID=America/Chicago:20230330T183000
DTEND;TZID=America/Chicago:20230330T213000
DTSTAMP:20260423T150554
CREATED:20230125T230212Z
LAST-MODIFIED:20230125T230212Z
UID:11998-1680201000-1680211800@www.ntxlax.com
SUMMARY:Texas A&M @ UT Wlax
DESCRIPTION:Share this:\n				Share on X (Opens in new window)\n				X\n			\n				Print (Opens in new window)\n				Print
URL:https://www.ntxlax.com/events/texas-am-ut-wlax/
CATEGORIES:Game
END:VEVENT
BEGIN:VEVENT
DTSTART;TZID=America/Chicago:20230329T183000
DTEND;TZID=America/Chicago:20230329T213000
DTSTAMP:20260423T150554
CREATED:20230125T204159Z
LAST-MODIFIED:20230125T204159Z
UID:11965-1680114600-1680125400@www.ntxlax.com
SUMMARY:Regents @ Round Rock - Varisty Boys
DESCRIPTION:Share this:\n				Share on X (Opens in new window)\n				X\n			\n				Print (Opens in new window)\n				Print
URL:https://www.ntxlax.com/events/regents-round-rock-varisty-boys/
CATEGORIES:Game
END:VEVENT
BEGIN:VEVENT
DTSTART;TZID=America/Chicago:20230328T193000
DTEND;TZID=America/Chicago:20230328T223000
DTSTAMP:20260423T150554
CREATED:20230127T063103Z
LAST-MODIFIED:20230127T063103Z
UID:12102-1680031800-1680042600@www.ntxlax.com
SUMMARY:Woodlands Green @ St. John's - Varsity Boys
DESCRIPTION:Share this:\n				Share on X (Opens in new window)\n				X\n			\n				Print (Opens in new window)\n				Print
URL:https://www.ntxlax.com/events/woodlands-green-st-johns-varsity-boys/
CATEGORIES:Game
END:VEVENT
BEGIN:VEVENT
DTSTART;TZID=America/Chicago:20230328T190000
DTEND;TZID=America/Chicago:20230328T220000
DTSTAMP:20260423T150554
CREATED:20230125T232124Z
LAST-MODIFIED:20230125T232124Z
UID:12022-1680030000-1680040800@www.ntxlax.com
SUMMARY:Cypress @ Katy - Varsity Boys
DESCRIPTION:Share this:\n				Share on X (Opens in new window)\n				X\n			\n				Print (Opens in new window)\n				Print
URL:https://www.ntxlax.com/events/cypress-katy-varsity-boys/
CATEGORIES:Game
END:VEVENT
BEGIN:VEVENT
DTSTART;TZID=America/Chicago:20230328T183000
DTEND;TZID=America/Chicago:20230328T213000
DTSTAMP:20260423T150554
CREATED:20230127T170445Z
LAST-MODIFIED:20230127T170445Z
UID:12189-1680028200-1680039000@www.ntxlax.com
SUMMARY:ESD @ McKinney - Varsity Girls
DESCRIPTION:Share this:\n				Share on X (Opens in new window)\n				X\n			\n				Print (Opens in new window)\n				Print
URL:https://www.ntxlax.com/events/esd-mckinney-varsity-girls/
CATEGORIES:Game
END:VEVENT
BEGIN:VEVENT
DTSTART;TZID=America/Chicago:20230328T160000
DTEND;TZID=America/Chicago:20230328T190000
DTSTAMP:20260423T150554
CREATED:20230127T162716Z
LAST-MODIFIED:20230127T162716Z
UID:12153-1680019200-1680030000@www.ntxlax.com
SUMMARY:Canyon @ Alamo Heights - Varsity Girls
DESCRIPTION:Share this:\n				Share on X (Opens in new window)\n				X\n			\n				Print (Opens in new window)\n				Print
URL:https://www.ntxlax.com/events/canyon-alamo-heights-varsity-girls/
CATEGORIES:Game
END:VEVENT
BEGIN:VEVENT
DTSTART;TZID=America/Chicago:20230326T130000
DTEND;TZID=America/Chicago:20230326T160000
DTSTAMP:20260423T150554
CREATED:20230202T233044Z
LAST-MODIFIED:20230202T233044Z
UID:12397-1679835600-1679846400@www.ntxlax.com
SUMMARY:Grapevine @ Cumberland - Varsity Boys
DESCRIPTION:Share this:\n				Share on X (Opens in new window)\n				X\n			\n				Print (Opens in new window)\n				Print
URL:https://www.ntxlax.com/events/grapevine-cumberland-varsity-boys/
CATEGORIES:Game
END:VEVENT
BEGIN:VEVENT
DTSTART;TZID=America/Chicago:20230326T123000
DTEND;TZID=America/Chicago:20230326T153000
DTSTAMP:20260423T150554
CREATED:20230128T000126Z
LAST-MODIFIED:20230128T000126Z
UID:12221-1679833800-1679844600@www.ntxlax.com
SUMMARY:Westlake @ Southlake - Varsity Boys
DESCRIPTION:Share this:\n				Share on X (Opens in new window)\n				X\n			\n				Print (Opens in new window)\n				Print
URL:https://www.ntxlax.com/events/westlake-southlake-varsity-boys/
CATEGORIES:Game
END:VEVENT
BEGIN:VEVENT
DTSTART;TZID=America/Chicago:20230325T160000
DTEND;TZID=America/Chicago:20230325T190000
DTSTAMP:20260423T150554
CREATED:20230125T204041Z
LAST-MODIFIED:20230125T204041Z
UID:11963-1679760000-1679770800@www.ntxlax.com
SUMMARY:Round Rock @ Atascocita - Varsity Boys
DESCRIPTION:Share this:\n				Share on X (Opens in new window)\n				X\n			\n				Print (Opens in new window)\n				Print
URL:https://www.ntxlax.com/events/round-rock-atascocita-varsity-boys/
CATEGORIES:Game
END:VEVENT
BEGIN:VEVENT
DTSTART;TZID=America/Chicago:20230325T143000
DTEND;TZID=America/Chicago:20230325T173000
DTSTAMP:20260423T150554
CREATED:20230127T062927Z
LAST-MODIFIED:20230127T062927Z
UID:12100-1679754600-1679765400@www.ntxlax.com
SUMMARY:Magnolia @ Woodlands Red - Varsity Boys
DESCRIPTION:Share this:\n				Share on X (Opens in new window)\n				X\n			\n				Print (Opens in new window)\n				Print
URL:https://www.ntxlax.com/events/magnolia-woodlands-red-varsity-boys/
CATEGORIES:Game
END:VEVENT
BEGIN:VEVENT
DTSTART;TZID=America/Chicago:20230325T140000
DTEND;TZID=America/Chicago:20230325T170000
DTSTAMP:20260423T150554
CREATED:20230125T203859Z
LAST-MODIFIED:20230125T213524Z
UID:11961-1679752800-1679763600@www.ntxlax.com
SUMMARY:Round Rock @ Cypress - Varsity Boys
DESCRIPTION:Share this:\n				Share on X (Opens in new window)\n				X\n			\n				Print (Opens in new window)\n				Print
URL:https://www.ntxlax.com/events/round-rock-cypress-varsity-boys/
CATEGORIES:Game
END:VEVENT
BEGIN:VEVENT
DTSTART;TZID=America/Chicago:20230325T123000
DTEND;TZID=America/Chicago:20230325T153000
DTSTAMP:20260423T150554
CREATED:20230128T002340Z
LAST-MODIFIED:20230128T002340Z
UID:12247-1679747400-1679758200@www.ntxlax.com
SUMMARY:Reagan @ Antonian - Varsity Girls
DESCRIPTION:Share this:\n				Share on X (Opens in new window)\n				X\n			\n				Print (Opens in new window)\n				Print
URL:https://www.ntxlax.com/events/reagan-antonian-varsity-girls-2/
CATEGORIES:Game
END:VEVENT
BEGIN:VEVENT
DTSTART;TZID=America/Chicago:20230325T120000
DTEND;TZID=America/Chicago:20230325T150000
DTSTAMP:20260423T150554
CREATED:20230127T235946Z
LAST-MODIFIED:20230127T235946Z
UID:12219-1679745600-1679756400@www.ntxlax.com
SUMMARY:St. Alban's @ Southlake - Varsity Boys
DESCRIPTION:Share this:\n				Share on X (Opens in new window)\n				X\n			\n				Print (Opens in new window)\n				Print
URL:https://www.ntxlax.com/events/st-albans-southlake-varsity-boys/
CATEGORIES:Game
END:VEVENT
BEGIN:VEVENT
DTSTART;TZID=America/Chicago:20230324T193000
DTEND;TZID=America/Chicago:20230324T223000
DTSTAMP:20260423T150554
CREATED:20230128T002245Z
LAST-MODIFIED:20230128T002245Z
UID:12245-1679686200-1679697000@www.ntxlax.com
SUMMARY:Reagan @ East Central - Varsity Girls
DESCRIPTION:Share this:\n				Share on X (Opens in new window)\n				X\n			\n				Print (Opens in new window)\n				Print
URL:https://www.ntxlax.com/events/reagan-east-central-varsity-girls/
CATEGORIES:Game
END:VEVENT
BEGIN:VEVENT
DTSTART;TZID=America/Chicago:20230324T193000
DTEND;TZID=America/Chicago:20230324T223000
DTSTAMP:20260423T150554
CREATED:20230125T231841Z
LAST-MODIFIED:20230125T231841Z
UID:12020-1679686200-1679697000@www.ntxlax.com
SUMMARY:Cypress @ Memorial - Varsity Boys
DESCRIPTION:Share this:\n				Share on X (Opens in new window)\n				X\n			\n				Print (Opens in new window)\n				Print
URL:https://www.ntxlax.com/events/cypress-memorial-varsity-boys/
CATEGORIES:Game
END:VEVENT
BEGIN:VEVENT
DTSTART;TZID=America/Chicago:20230323T193000
DTEND;TZID=America/Chicago:20230323T223000
DTSTAMP:20260423T150554
CREATED:20230127T062816Z
LAST-MODIFIED:20230127T062816Z
UID:12098-1679599800-1679610600@www.ntxlax.com
SUMMARY:Kinkaid @ Woodlands Green - Varsity Boys
DESCRIPTION:Share this:\n				Share on X (Opens in new window)\n				X\n			\n				Print (Opens in new window)\n				Print
URL:https://www.ntxlax.com/events/kinkaid-woodlands-green-varsity-boys/
CATEGORIES:Game
END:VEVENT
BEGIN:VEVENT
DTSTART;TZID=America/Chicago:20230323T190000
DTEND;TZID=America/Chicago:20230323T220000
DTSTAMP:20260423T150554
CREATED:20230125T034321Z
LAST-MODIFIED:20230125T034321Z
UID:11916-1679598000-1679608800@www.ntxlax.com
SUMMARY:East Central @ Alamo Heights - Varsity Boys
DESCRIPTION:Share this:\n				Share on X (Opens in new window)\n				X\n			\n				Print (Opens in new window)\n				Print
URL:https://www.ntxlax.com/events/east-central-alamo-heights-varsity-boys/
CATEGORIES:Game
END:VEVENT
END:VCALENDAR