BEGIN:VCALENDAR
VERSION:2.0
PRODID:-//USA Lacrosse Texas Chapter - ECPv6.15.20//NONSGML v1.0//EN
CALSCALE:GREGORIAN
METHOD:PUBLISH
X-ORIGINAL-URL:https://www.ntxlax.com
X-WR-CALDESC:Events for USA Lacrosse Texas Chapter
REFRESH-INTERVAL;VALUE=DURATION:PT1H
X-Robots-Tag:noindex
X-PUBLISHED-TTL:PT1H
BEGIN:VTIMEZONE
TZID:America/Chicago
BEGIN:DAYLIGHT
TZOFFSETFROM:-0600
TZOFFSETTO:-0500
TZNAME:CDT
DTSTART:20220313T080000
END:DAYLIGHT
BEGIN:STANDARD
TZOFFSETFROM:-0500
TZOFFSETTO:-0600
TZNAME:CST
DTSTART:20221106T070000
END:STANDARD
BEGIN:DAYLIGHT
TZOFFSETFROM:-0600
TZOFFSETTO:-0500
TZNAME:CDT
DTSTART:20230312T080000
END:DAYLIGHT
BEGIN:STANDARD
TZOFFSETFROM:-0500
TZOFFSETTO:-0600
TZNAME:CST
DTSTART:20231105T070000
END:STANDARD
BEGIN:DAYLIGHT
TZOFFSETFROM:-0600
TZOFFSETTO:-0500
TZNAME:CDT
DTSTART:20240310T080000
END:DAYLIGHT
BEGIN:STANDARD
TZOFFSETFROM:-0500
TZOFFSETTO:-0600
TZNAME:CST
DTSTART:20241103T070000
END:STANDARD
END:VTIMEZONE
BEGIN:VEVENT
DTSTART;VALUE=DATE:20230413
DTEND;VALUE=DATE:20230414
DTSTAMP:20260423T123349
CREATED:20230127T165231Z
LAST-MODIFIED:20230127T165231Z
UID:12179-1681344000-1681430399@www.ntxlax.com
SUMMARY:McKinney @ Flower Mound - Varsity Girls
DESCRIPTION:Share this:\n				Share on X (Opens in new window)\n				X\n			\n				Print (Opens in new window)\n				Print
URL:https://www.ntxlax.com/events/mckinney-flower-mound-varsity-girls/
CATEGORIES:Game
END:VEVENT
BEGIN:VEVENT
DTSTART;VALUE=DATE:20230413
DTEND;VALUE=DATE:20230414
DTSTAMP:20260423T123349
CREATED:20230127T064256Z
LAST-MODIFIED:20230127T064256Z
UID:12119-1681344000-1681430399@www.ntxlax.com
SUMMARY:Garden City @ Woodlands Green - Varsity Boys
DESCRIPTION:Share this:\n				Share on X (Opens in new window)\n				X\n			\n				Print (Opens in new window)\n				Print
URL:https://www.ntxlax.com/events/garden-city-woodlands-green-varsity-boys/
CATEGORIES:Game
END:VEVENT
BEGIN:VEVENT
DTSTART;TZID=America/Chicago:20230412T193000
DTEND;TZID=America/Chicago:20230412T223000
DTSTAMP:20260423T123349
CREATED:20230125T204543Z
LAST-MODIFIED:20230125T204543Z
UID:11971-1681327800-1681338600@www.ntxlax.com
SUMMARY:Westlake B @ Round Rock - Varsity Boys
DESCRIPTION:Share this:\n				Share on X (Opens in new window)\n				X\n			\n				Print (Opens in new window)\n				Print
URL:https://www.ntxlax.com/events/westlake-b-round-rock-varsity-boys/
CATEGORIES:Game
END:VEVENT
BEGIN:VEVENT
DTSTART;TZID=America/Chicago:20230412T190000
DTEND;TZID=America/Chicago:20230412T220000
DTSTAMP:20260423T123349
CREATED:20230202T233542Z
LAST-MODIFIED:20230202T233542Z
UID:12405-1681326000-1681336800@www.ntxlax.com
SUMMARY:Bridge @ Grapevine - Varsity Boys
DESCRIPTION:Share this:\n				Share on X (Opens in new window)\n				X\n			\n				Print (Opens in new window)\n				Print
URL:https://www.ntxlax.com/events/bridge-grapevine-varsity-boys/
CATEGORIES:Game
END:VEVENT
BEGIN:VEVENT
DTSTART;TZID=America/Chicago:20230412T183000
DTEND;TZID=America/Chicago:20230412T213000
DTSTAMP:20260423T123349
CREATED:20230127T163016Z
LAST-MODIFIED:20230127T163016Z
UID:12159-1681324200-1681335000@www.ntxlax.com
SUMMARY:Alamo Heights @ Antonian - Varsity Girls
DESCRIPTION:Share this:\n				Share on X (Opens in new window)\n				X\n			\n				Print (Opens in new window)\n				Print
URL:https://www.ntxlax.com/events/alamo-heights-antonian-varsity-girls/
CATEGORIES:Game
END:VEVENT
BEGIN:VEVENT
DTSTART;TZID=America/Chicago:20230411T190000
DTEND;TZID=America/Chicago:20230411T220000
DTSTAMP:20260423T123349
CREATED:20230202T233434Z
LAST-MODIFIED:20230202T233434Z
UID:12403-1681239600-1681250400@www.ntxlax.com
SUMMARY:Greenhill @ Grapevine - Varsity Boys
DESCRIPTION:Share this:\n				Share on X (Opens in new window)\n				X\n			\n				Print (Opens in new window)\n				Print
URL:https://www.ntxlax.com/events/greenhill-grapevine-varsity-boys/
CATEGORIES:Game
END:VEVENT
BEGIN:VEVENT
DTSTART;TZID=America/Chicago:20230411T190000
DTEND;TZID=America/Chicago:20230411T220000
DTSTAMP:20260423T123349
CREATED:20230127T064117Z
LAST-MODIFIED:20230127T064117Z
UID:12117-1681239600-1681250400@www.ntxlax.com
SUMMARY:Woodlands Red @ Concordia Lutheran - Varsity Boys
DESCRIPTION:Share this:\n				Share on X (Opens in new window)\n				X\n			\n				Print (Opens in new window)\n				Print
URL:https://www.ntxlax.com/events/woodlands-red-concordia-lutheran-varsity-boys/
CATEGORIES:Game
END:VEVENT
BEGIN:VEVENT
DTSTART;VALUE=DATE:20230411
DTEND;VALUE=DATE:20230412
DTSTAMP:20260423T123349
CREATED:20230127T165130Z
LAST-MODIFIED:20230127T165130Z
UID:12177-1681171200-1681257599@www.ntxlax.com
SUMMARY:Flower Mound @ Frisco - Varsity Girls
DESCRIPTION:Share this:\n				Share on X (Opens in new window)\n				X\n			\n				Print (Opens in new window)\n				Print
URL:https://www.ntxlax.com/events/flower-mound-frisco-varsity-girls/
CATEGORIES:Game
END:VEVENT
BEGIN:VEVENT
DTSTART;TZID=America/Chicago:20230408T150000
DTEND;TZID=America/Chicago:20230408T180000
DTSTAMP:20260423T123349
CREATED:20230125T035029Z
LAST-MODIFIED:20230125T035029Z
UID:11925-1680966000-1680976800@www.ntxlax.com
SUMMARY:Alamo Heights @ East Central - Varsity Boys
DESCRIPTION:Share this:\n				Share on X (Opens in new window)\n				X\n			\n				Print (Opens in new window)\n				Print
URL:https://www.ntxlax.com/events/alamo-heights-east-central-varsity-boys/
CATEGORIES:Game
END:VEVENT
BEGIN:VEVENT
DTSTART;TZID=America/Chicago:20230408T130000
DTEND;TZID=America/Chicago:20230408T160000
DTSTAMP:20260423T123349
CREATED:20230125T204445Z
LAST-MODIFIED:20230125T204445Z
UID:11969-1680958800-1680969600@www.ntxlax.com
SUMMARY:Smithson Valley @ Round Rock - Varsity Boys
DESCRIPTION:Share this:\n				Share on X (Opens in new window)\n				X\n			\n				Print (Opens in new window)\n				Print
URL:https://www.ntxlax.com/events/smithson-valley-round-rock-varsity-boys/
CATEGORIES:Game
END:VEVENT
BEGIN:VEVENT
DTSTART;TZID=America/Chicago:20230408T120000
DTEND;TZID=America/Chicago:20230408T150000
DTSTAMP:20260423T123349
CREATED:20230127T162919Z
LAST-MODIFIED:20230127T162919Z
UID:12157-1680955200-1680966000@www.ntxlax.com
SUMMARY:Alamo Heights @ East Central - Varsity Girls
DESCRIPTION:Share this:\n				Share on X (Opens in new window)\n				X\n			\n				Print (Opens in new window)\n				Print
URL:https://www.ntxlax.com/events/alamo-heights-east-central-varsity-girls/
CATEGORIES:Game
END:VEVENT
BEGIN:VEVENT
DTSTART;TZID=America/Chicago:20230407T193000
DTEND;TZID=America/Chicago:20230407T223000
DTSTAMP:20260423T123349
CREATED:20230202T233342Z
LAST-MODIFIED:20230202T233342Z
UID:12401-1680895800-1680906600@www.ntxlax.com
SUMMARY:Rockwall @ Grapevine - Varsity Boys
DESCRIPTION:Share this:\n				Share on X (Opens in new window)\n				X\n			\n				Print (Opens in new window)\n				Print
URL:https://www.ntxlax.com/events/rockwall-grapevine-varsity-boys/
CATEGORIES:Game
END:VEVENT
BEGIN:VEVENT
DTSTART;TZID=America/Chicago:20230407T193000
DTEND;TZID=America/Chicago:20230407T223000
DTSTAMP:20260423T123349
CREATED:20230125T232901Z
LAST-MODIFIED:20230125T232901Z
UID:12027-1680895800-1680906600@www.ntxlax.com
SUMMARY:Woodlands @ Cypress - Varsity Boys
DESCRIPTION:Share this:\n				Share on X (Opens in new window)\n				X\n			\n				Print (Opens in new window)\n				Print
URL:https://www.ntxlax.com/events/woodlands-cypress-varsity-boys/
CATEGORIES:Game
END:VEVENT
BEGIN:VEVENT
DTSTART;TZID=America/Chicago:20230406T193000
DTEND;TZID=America/Chicago:20230406T223000
DTSTAMP:20260423T123349
CREATED:20230128T000747Z
LAST-MODIFIED:20230128T000747Z
UID:12225-1680809400-1680820200@www.ntxlax.com
SUMMARY:Highland Park @ Southlake - Varsity Boys
DESCRIPTION:Share this:\n				Share on X (Opens in new window)\n				X\n			\n				Print (Opens in new window)\n				Print
URL:https://www.ntxlax.com/events/highland-park-southlake-varsity-boys/
CATEGORIES:Game
END:VEVENT
BEGIN:VEVENT
DTSTART;TZID=America/Chicago:20230406T193000
DTEND;TZID=America/Chicago:20230406T223000
DTSTAMP:20260423T123349
CREATED:20230127T063935Z
LAST-MODIFIED:20230127T063935Z
UID:12114-1680809400-1680820200@www.ntxlax.com
SUMMARY:La Costa Canyon @ Woodlands Green - Varsity Boys
DESCRIPTION:Share this:\n				Share on X (Opens in new window)\n				X\n			\n				Print (Opens in new window)\n				Print
URL:https://www.ntxlax.com/events/la-costa-canyon-woodlands-green-varsity-boys/
CATEGORIES:Game
END:VEVENT
BEGIN:VEVENT
DTSTART;TZID=America/Chicago:20230406T190000
DTEND;TZID=America/Chicago:20230406T220000
DTSTAMP:20260423T123349
CREATED:20230127T170650Z
LAST-MODIFIED:20230127T170650Z
UID:12193-1680807600-1680818400@www.ntxlax.com
SUMMARY:McKinney @ Frisco - Varsity Girls
DESCRIPTION:Share this:\n				Share on X (Opens in new window)\n				X\n			\n				Print (Opens in new window)\n				Print
URL:https://www.ntxlax.com/events/mckinney-frisco-varsity-girls/
CATEGORIES:Game
END:VEVENT
BEGIN:VEVENT
DTSTART;TZID=America/Chicago:20230405T200000
DTEND;TZID=America/Chicago:20230405T230000
DTSTAMP:20260423T123349
CREATED:20230125T034914Z
LAST-MODIFIED:20230125T034914Z
UID:11923-1680724800-1680735600@www.ntxlax.com
SUMMARY:Central @ Alamo Heights - Varsity Boys
DESCRIPTION:Share this:\n				Share on X (Opens in new window)\n				X\n			\n				Print (Opens in new window)\n				Print
URL:https://www.ntxlax.com/events/central-alamo-heights-varsity-boys/
CATEGORIES:Game
END:VEVENT
BEGIN:VEVENT
DTSTART;TZID=America/Chicago:20230405T193000
DTEND;TZID=America/Chicago:20230405T223000
DTSTAMP:20260423T123349
CREATED:20230125T204317Z
LAST-MODIFIED:20230125T232734Z
UID:11967-1680723000-1680733800@www.ntxlax.com
SUMMARY:Anderson @ Round Rock - Varsity Boys
DESCRIPTION:Share this:\n				Share on X (Opens in new window)\n				X\n			\n				Print (Opens in new window)\n				Print
URL:https://www.ntxlax.com/events/anderson-round-rock/
CATEGORIES:Game
END:VEVENT
BEGIN:VEVENT
DTSTART;VALUE=DATE:20230404
DTEND;VALUE=DATE:20230405
DTSTAMP:20260423T123349
CREATED:20230127T165020Z
LAST-MODIFIED:20230127T165020Z
UID:12175-1680566400-1680652799@www.ntxlax.com
SUMMARY:Hockaday @ Flower Mound - Varsity Girls
DESCRIPTION:Share this:\n				Share on X (Opens in new window)\n				X\n			\n				Print (Opens in new window)\n				Print
URL:https://www.ntxlax.com/events/hockaday-flower-mound-varsity-girls/
CATEGORIES:Game
END:VEVENT
BEGIN:VEVENT
DTSTART;TZID=America/Chicago:20230403T190000
DTEND;TZID=America/Chicago:20230403T220000
DTSTAMP:20260423T123349
CREATED:20230127T063801Z
LAST-MODIFIED:20230127T063801Z
UID:12112-1680548400-1680559200@www.ntxlax.com
SUMMARY:Woodlands Red @ Klein - Varsity Boys
DESCRIPTION:Share this:\n				Share on X (Opens in new window)\n				X\n			\n				Print (Opens in new window)\n				Print
URL:https://www.ntxlax.com/events/woodlands-red-klein-varsity-boys/
CATEGORIES:Game
END:VEVENT
BEGIN:VEVENT
DTSTART;TZID=America/Chicago:20230402T150000
DTEND;TZID=America/Chicago:20230402T180000
DTSTAMP:20260423T123349
CREATED:20230128T002502Z
LAST-MODIFIED:20230128T002502Z
UID:12249-1680447600-1680458400@www.ntxlax.com
SUMMARY:Reagan @ Dripping Springs - Varsity Girls
DESCRIPTION:Share this:\n				Share on X (Opens in new window)\n				X\n			\n				Print (Opens in new window)\n				Print
URL:https://www.ntxlax.com/events/reagan-dripping-springs-varsity-girls/
CATEGORIES:Game
END:VEVENT
BEGIN:VEVENT
DTSTART;TZID=America/Chicago:20230402T140000
DTEND;TZID=America/Chicago:20230402T170000
DTSTAMP:20260423T123349
CREATED:20230125T232322Z
LAST-MODIFIED:20230125T232322Z
UID:12024-1680444000-1680454800@www.ntxlax.com
SUMMARY:Dripping Springs @ Cypress - Varsity Boys
DESCRIPTION:Share this:\n				Share on X (Opens in new window)\n				X\n			\n				Print (Opens in new window)\n				Print
URL:https://www.ntxlax.com/events/dripping-springs-cypress-varsity-boys/
CATEGORIES:Game
END:VEVENT
BEGIN:VEVENT
DTSTART;TZID=America/Chicago:20230402T130000
DTEND;TZID=America/Chicago:20230402T160000
DTSTAMP:20260423T123349
CREATED:20230127T063640Z
LAST-MODIFIED:20230127T063640Z
UID:12110-1680440400-1680451200@www.ntxlax.com
SUMMARY:Southlake @ Woodlands Green - Varsity Boys
DESCRIPTION:Share this:\n				Share on X (Opens in new window)\n				X\n			\n				Print (Opens in new window)\n				Print
URL:https://www.ntxlax.com/events/southlake-woodlands-green-varsity-boys/
CATEGORIES:Game
END:VEVENT
BEGIN:VEVENT
DTSTART;TZID=America/Chicago:20230401T170000
DTEND;TZID=America/Chicago:20230401T200000
DTSTAMP:20260423T123349
CREATED:20230127T063515Z
LAST-MODIFIED:20230127T063515Z
UID:12108-1680368400-1680379200@www.ntxlax.com
SUMMARY:Woodlands Red @ Ridge Point - Varsity Boys
DESCRIPTION:Share this:\n				Share on X (Opens in new window)\n				X\n			\n				Print (Opens in new window)\n				Print
URL:https://www.ntxlax.com/events/woodlands-red-ridge-point-varsity-boys/
CATEGORIES:Game
END:VEVENT
BEGIN:VEVENT
DTSTART;TZID=America/Chicago:20230401T140000
DTEND;TZID=America/Chicago:20230401T170000
DTSTAMP:20260423T123349
CREATED:20230127T063418Z
LAST-MODIFIED:20230127T063418Z
UID:12106-1680357600-1680368400@www.ntxlax.com
SUMMARY:Dripping Springs @ Woodlands Green
DESCRIPTION:Share this:\n				Share on X (Opens in new window)\n				X\n			\n				Print (Opens in new window)\n				Print
URL:https://www.ntxlax.com/events/dripping-springs-woodlands-green/
CATEGORIES:Game
END:VEVENT
BEGIN:VEVENT
DTSTART;TZID=America/Chicago:20230401T123000
DTEND;TZID=America/Chicago:20230401T153000
DTSTAMP:20260423T123349
CREATED:20230125T034753Z
LAST-MODIFIED:20230125T034753Z
UID:11921-1680352200-1680363000@www.ntxlax.com
SUMMARY:Vandergrift @ Alamo Heights - Varsity Boys
DESCRIPTION:Share this:\n				Share on X (Opens in new window)\n				X\n			\n				Print (Opens in new window)\n				Print
URL:https://www.ntxlax.com/events/vandergrift-alamo-heights-varsity-boys/
CATEGORIES:Game
END:VEVENT
BEGIN:VEVENT
DTSTART;TZID=America/Chicago:20230401T120000
DTEND;TZID=America/Chicago:20230401T150000
DTSTAMP:20260423T123349
CREATED:20230127T162811Z
LAST-MODIFIED:20230127T162811Z
UID:12155-1680350400-1680361200@www.ntxlax.com
SUMMARY:Alamo Heights @ Dripping Springs - Varsity Girls
DESCRIPTION:Share this:\n				Share on X (Opens in new window)\n				X\n			\n				Print (Opens in new window)\n				Print
URL:https://www.ntxlax.com/events/alamo-heights-dripping-springs-varsity-girls/
CATEGORIES:Game
END:VEVENT
BEGIN:VEVENT
DTSTART;TZID=America/Chicago:20230401T110000
DTEND;TZID=America/Chicago:20230401T140000
DTSTAMP:20260423T123349
CREATED:20230202T233137Z
LAST-MODIFIED:20230202T233137Z
UID:12399-1680346800-1680357600@www.ntxlax.com
SUMMARY:Grapevine @ Ft. Worth Country Day - Varsity Boys
DESCRIPTION:Share this:\n				Share on X (Opens in new window)\n				X\n			\n				Print (Opens in new window)\n				Print
URL:https://www.ntxlax.com/events/grapevine-ft-worth-country-day-varsity-boys/
CATEGORIES:Game
END:VEVENT
BEGIN:VEVENT
DTSTART;VALUE=DATE:20230401
DTEND;VALUE=DATE:20230402
DTSTAMP:20260423T123349
CREATED:20230127T164915Z
LAST-MODIFIED:20230127T164915Z
UID:12173-1680307200-1680393599@www.ntxlax.com
SUMMARY:Flower Mound @ St. Michael's/Cy-Fair - Varsity Girls
DESCRIPTION:Share this:\n				Share on X (Opens in new window)\n				X\n			\n				Print (Opens in new window)\n				Print
URL:https://www.ntxlax.com/events/flower-mound-st-michaels-cy-fair-varsity-girls/
CATEGORIES:Game
END:VEVENT
BEGIN:VEVENT
DTSTART;TZID=America/Chicago:20230331T193000
DTEND;TZID=America/Chicago:20230331T223000
DTSTAMP:20260423T123349
CREATED:20230128T000532Z
LAST-MODIFIED:20230128T000647Z
UID:12223-1680291000-1680301800@www.ntxlax.com
SUMMARY:Southlake @ Coppell - Varsity Boys
DESCRIPTION:Share this:\n				Share on X (Opens in new window)\n				X\n			\n				Print (Opens in new window)\n				Print
URL:https://www.ntxlax.com/events/southlake-coppell-varsity-boys/
CATEGORIES:Game
END:VEVENT
END:VCALENDAR