BEGIN:VCALENDAR
VERSION:2.0
PRODID:-//USA Lacrosse Texas Chapter - ECPv6.15.20//NONSGML v1.0//EN
CALSCALE:GREGORIAN
METHOD:PUBLISH
X-ORIGINAL-URL:https://www.ntxlax.com
X-WR-CALDESC:Events for USA Lacrosse Texas Chapter
REFRESH-INTERVAL;VALUE=DURATION:PT1H
X-Robots-Tag:noindex
X-PUBLISHED-TTL:PT1H
BEGIN:VTIMEZONE
TZID:America/Chicago
BEGIN:DAYLIGHT
TZOFFSETFROM:-0600
TZOFFSETTO:-0500
TZNAME:CDT
DTSTART:20220313T080000
END:DAYLIGHT
BEGIN:STANDARD
TZOFFSETFROM:-0500
TZOFFSETTO:-0600
TZNAME:CST
DTSTART:20221106T070000
END:STANDARD
BEGIN:DAYLIGHT
TZOFFSETFROM:-0600
TZOFFSETTO:-0500
TZNAME:CDT
DTSTART:20230312T080000
END:DAYLIGHT
BEGIN:STANDARD
TZOFFSETFROM:-0500
TZOFFSETTO:-0600
TZNAME:CST
DTSTART:20231105T070000
END:STANDARD
BEGIN:DAYLIGHT
TZOFFSETFROM:-0600
TZOFFSETTO:-0500
TZNAME:CDT
DTSTART:20240310T080000
END:DAYLIGHT
BEGIN:STANDARD
TZOFFSETFROM:-0500
TZOFFSETTO:-0600
TZNAME:CST
DTSTART:20241103T070000
END:STANDARD
END:VTIMEZONE
BEGIN:VEVENT
DTSTART;VALUE=DATE:20230228
DTEND;VALUE=DATE:20230301
DTSTAMP:20260423T230409
CREATED:20230127T164222Z
LAST-MODIFIED:20230127T164222Z
UID:12166-1677542400-1677628799@www.ntxlax.com
SUMMARY:Flower Mound @ Allen - Varsity Girls
DESCRIPTION:Share this:\n				Share on X (Opens in new window)\n				X\n			\n				Print (Opens in new window)\n				Print
URL:https://www.ntxlax.com/events/flower-mound-allen-varsity-girls/
CATEGORIES:Game
END:VEVENT
BEGIN:VEVENT
DTSTART;TZID=America/Chicago:20230226T150000
DTEND;TZID=America/Chicago:20230226T180000
DTSTAMP:20260423T230409
CREATED:20230127T061740Z
LAST-MODIFIED:20230127T061740Z
UID:12082-1677423600-1677434400@www.ntxlax.com
SUMMARY:Woodlands Green @ Austin - Varsity Boys
DESCRIPTION:Share this:\n				Share on X (Opens in new window)\n				X\n			\n				Print (Opens in new window)\n				Print
URL:https://www.ntxlax.com/events/woodlands-green-austin-varsity-boys/
CATEGORIES:Game
END:VEVENT
BEGIN:VEVENT
DTSTART;TZID=America/Chicago:20230226T140000
DTEND;TZID=America/Chicago:20230226T170000
DTSTAMP:20260423T230409
CREATED:20230127T061603Z
LAST-MODIFIED:20230127T061603Z
UID:12080-1677420000-1677430800@www.ntxlax.com
SUMMARY:Clear Springs @ Woodlands Red - Varsity Boys
DESCRIPTION:Share this:\n				Share on X (Opens in new window)\n				X\n			\n				Print (Opens in new window)\n				Print
URL:https://www.ntxlax.com/events/clear-springs-woodlands-red-varsity-boys/
CATEGORIES:Game
END:VEVENT
BEGIN:VEVENT
DTSTART;TZID=America/Chicago:20230226T110000
DTEND;TZID=America/Chicago:20230226T140000
DTSTAMP:20260423T230409
CREATED:20230125T203755Z
LAST-MODIFIED:20230125T203755Z
UID:11959-1677409200-1677420000@www.ntxlax.com
SUMMARY:Magnolia @ Round Rock - Varsity Boys
DESCRIPTION:Share this:\n				Share on X (Opens in new window)\n				X\n			\n				Print (Opens in new window)\n				Print
URL:https://www.ntxlax.com/events/magnolia-round-rock-varsity-boys/
CATEGORIES:Game
END:VEVENT
BEGIN:VEVENT
DTSTART;TZID=America/Chicago:20230225T130000
DTEND;TZID=America/Chicago:20230225T160000
DTSTAMP:20260423T230409
CREATED:20230127T061452Z
LAST-MODIFIED:20230127T061452Z
UID:12078-1677330000-1677340800@www.ntxlax.com
SUMMARY:Woodlands Green @ Vangergrift - Varsity Boys
DESCRIPTION:Share this:\n				Share on X (Opens in new window)\n				X\n			\n				Print (Opens in new window)\n				Print
URL:https://www.ntxlax.com/events/woodlands-green-vangergrift-varsity-boys/
CATEGORIES:Game
END:VEVENT
BEGIN:VEVENT
DTSTART;TZID=America/Chicago:20230225T130000
DTEND;TZID=America/Chicago:20230225T160000
DTSTAMP:20260423T230409
CREATED:20230125T041525Z
LAST-MODIFIED:20230125T041525Z
UID:11943-1677330000-1677340800@www.ntxlax.com
SUMMARY:TMI @ Round Rock - Varsity Boys
DESCRIPTION:Share this:\n				Share on X (Opens in new window)\n				X\n			\n				Print (Opens in new window)\n				Print
URL:https://www.ntxlax.com/events/tmi-round-rock-varsity-boys/
CATEGORIES:Game
END:VEVENT
BEGIN:VEVENT
DTSTART;TZID=America/Chicago:20230225T120000
DTEND;TZID=America/Chicago:20230225T150000
DTSTAMP:20260423T230409
CREATED:20230128T001745Z
LAST-MODIFIED:20230128T001745Z
UID:12239-1677326400-1677337200@www.ntxlax.com
SUMMARY:Reagan @ Round Rock - Varsity Girls
DESCRIPTION:Share this:\n				Share on X (Opens in new window)\n				X\n			\n				Print (Opens in new window)\n				Print
URL:https://www.ntxlax.com/events/reagan-round-rock-varsity-girls/
CATEGORIES:Game
END:VEVENT
BEGIN:VEVENT
DTSTART;TZID=America/Chicago:20230224T190000
DTEND;TZID=America/Chicago:20230224T220000
DTSTAMP:20260423T230409
CREATED:20230127T234445Z
LAST-MODIFIED:20230127T234445Z
UID:12207-1677265200-1677276000@www.ntxlax.com
SUMMARY:St. John's @ Southlake - Varsity Boys
DESCRIPTION:Share this:\n				Share on X (Opens in new window)\n				X\n			\n				Print (Opens in new window)\n				Print
URL:https://www.ntxlax.com/events/st-johns-southlake-varsity-boys/
CATEGORIES:Game
END:VEVENT
BEGIN:VEVENT
DTSTART;TZID=America/Chicago:20230223T193000
DTEND;TZID=America/Chicago:20230223T223000
DTSTAMP:20260423T230409
CREATED:20230128T001653Z
LAST-MODIFIED:20230128T001653Z
UID:12237-1677180600-1677191400@www.ntxlax.com
SUMMARY:Reagan @ TMI - Varsity Girls
DESCRIPTION:Share this:\n				Share on X (Opens in new window)\n				X\n			\n				Print (Opens in new window)\n				Print
URL:https://www.ntxlax.com/events/reagan-tmi-varsity-girls/
CATEGORIES:Game
END:VEVENT
BEGIN:VEVENT
DTSTART;TZID=America/Chicago:20230222T194500
DTEND;TZID=America/Chicago:20230222T223000
DTSTAMP:20260423T230409
CREATED:20230127T234327Z
LAST-MODIFIED:20230127T234327Z
UID:12205-1677095100-1677105000@www.ntxlax.com
SUMMARY:Southlake @ Keller - Varsity Boys
DESCRIPTION:Share this:\n				Share on X (Opens in new window)\n				X\n			\n				Print (Opens in new window)\n				Print
URL:https://www.ntxlax.com/events/southlake-keller-varsity-boys/
CATEGORIES:Game
END:VEVENT
BEGIN:VEVENT
DTSTART;TZID=America/Chicago:20230222T193000
DTEND;TZID=America/Chicago:20230222T223000
DTSTAMP:20260423T230409
CREATED:20230127T061328Z
LAST-MODIFIED:20230127T061328Z
UID:12076-1677094200-1677105000@www.ntxlax.com
SUMMARY:Woodlands Red @ Stratford - Varsity Boys
DESCRIPTION:Share this:\n				Share on X (Opens in new window)\n				X\n			\n				Print (Opens in new window)\n				Print
URL:https://www.ntxlax.com/events/woodlands-red-stratford-varsity-boys/
CATEGORIES:Game
END:VEVENT
BEGIN:VEVENT
DTSTART;TZID=America/Chicago:20230221T183000
DTEND;TZID=America/Chicago:20230221T213000
DTSTAMP:20260423T230409
CREATED:20230127T061207Z
LAST-MODIFIED:20230127T061207Z
UID:12074-1677004200-1677015000@www.ntxlax.com
SUMMARY:Woodlands Red @ St. Thomas - Varsity Boys
DESCRIPTION:Share this:\n				Share on X (Opens in new window)\n				X\n			\n				Print (Opens in new window)\n				Print
URL:https://www.ntxlax.com/events/woodlands-red-st-thomas-varsity-boys/
CATEGORIES:Game
END:VEVENT
BEGIN:VEVENT
DTSTART;TZID=America/Chicago:20230219T140000
DTEND;TZID=America/Chicago:20230219T170000
DTSTAMP:20260423T230409
CREATED:20230127T061058Z
LAST-MODIFIED:20230127T061058Z
UID:12072-1676815200-1676826000@www.ntxlax.com
SUMMARY:Woodlands Green @ Allen - Varsity Boys
DESCRIPTION:Share this:\n				Share on X (Opens in new window)\n				X\n			\n				Print (Opens in new window)\n				Print
URL:https://www.ntxlax.com/events/woodlands-green-allen-varsity-boys/
CATEGORIES:Game
END:VEVENT
BEGIN:VEVENT
DTSTART;TZID=America/Chicago:20230219T140000
DTEND;TZID=America/Chicago:20230219T170000
DTSTAMP:20260423T230409
CREATED:20230125T033627Z
LAST-MODIFIED:20230125T033627Z
UID:11910-1676815200-1676826000@www.ntxlax.com
SUMMARY:Westwood @ Alamo Heights - Varsity Boys
DESCRIPTION:Share this:\n				Share on X (Opens in new window)\n				X\n			\n				Print (Opens in new window)\n				Print
URL:https://www.ntxlax.com/events/westwood-alamo-heights-varsity-boys/
CATEGORIES:Game
END:VEVENT
BEGIN:VEVENT
DTSTART;TZID=America/Chicago:20230219T130000
DTEND;TZID=America/Chicago:20230219T160000
DTSTAMP:20260423T230409
CREATED:20230127T061007Z
LAST-MODIFIED:20230127T061007Z
UID:12070-1676811600-1676822400@www.ntxlax.com
SUMMARY:Woodlands Red @ Flower Mound - Varsity Boys
DESCRIPTION:Share this:\n				Share on X (Opens in new window)\n				X\n			\n				Print (Opens in new window)\n				Print
URL:https://www.ntxlax.com/events/woodlands-red-flower-mound-varsity-boys/
CATEGORIES:Game
END:VEVENT
BEGIN:VEVENT
DTSTART;TZID=America/Chicago:20230219T110000
DTEND;TZID=America/Chicago:20230219T140000
DTSTAMP:20260423T230409
CREATED:20230125T040834Z
LAST-MODIFIED:20230125T040834Z
UID:11941-1676804400-1676815200@www.ntxlax.com
SUMMARY:Round Rock @ Lovejoy - Varsity Boys
DESCRIPTION:Share this:\n				Share on X (Opens in new window)\n				X\n			\n				Print (Opens in new window)\n				Print
URL:https://www.ntxlax.com/events/round-rock-lovejoy-varsity-boys/
CATEGORIES:Game
END:VEVENT
BEGIN:VEVENT
DTSTART;TZID=America/Chicago:20230218T150000
DTEND;TZID=America/Chicago:20230218T180000
DTSTAMP:20260423T230409
CREATED:20230125T040504Z
LAST-MODIFIED:20230125T040504Z
UID:11939-1676732400-1676743200@www.ntxlax.com
SUMMARY:Round Rock @ Highland Park B - Varsity Boys
DESCRIPTION:Share this:\n				Share on X (Opens in new window)\n				X\n			\n				Print (Opens in new window)\n				Print
URL:https://www.ntxlax.com/events/round-rock-highland-park-b-varsity-boys/
CATEGORIES:Game
END:VEVENT
BEGIN:VEVENT
DTSTART;TZID=America/Chicago:20230218T140000
DTEND;TZID=America/Chicago:20230218T170000
DTSTAMP:20260423T230409
CREATED:20230127T234204Z
LAST-MODIFIED:20230127T234204Z
UID:12202-1676728800-1676739600@www.ntxlax.com
SUMMARY:Vandergrift @ Southlake - Varsity Boys
DESCRIPTION:Share this:\n				Share on X (Opens in new window)\n				X\n			\n				Print (Opens in new window)\n				Print
URL:https://www.ntxlax.com/events/vandergrift-southlake-varsity-boys/
CATEGORIES:Game
END:VEVENT
BEGIN:VEVENT
DTSTART;TZID=America/Chicago:20230218T140000
DTEND;TZID=America/Chicago:20230218T170000
DTSTAMP:20260423T230409
CREATED:20230127T060834Z
LAST-MODIFIED:20230127T060834Z
UID:12068-1676728800-1676739600@www.ntxlax.com
SUMMARY:Woodlands Green @ Dallas Jesuit - Varsity Boys
DESCRIPTION:Share this:\n				Share on X (Opens in new window)\n				X\n			\n				Print (Opens in new window)\n				Print
URL:https://www.ntxlax.com/events/woodlands-green-dallas-jesuit-varsity-boys/
CATEGORIES:Game
END:VEVENT
BEGIN:VEVENT
DTSTART;TZID=America/Chicago:20230218T140000
DTEND;TZID=America/Chicago:20230218T170000
DTSTAMP:20260423T230409
CREATED:20230125T033535Z
LAST-MODIFIED:20230125T033535Z
UID:11908-1676728800-1676739600@www.ntxlax.com
SUMMARY:Alamo Heights @ Anderson - Varsity Boys
DESCRIPTION:Share this:\n				Share on X (Opens in new window)\n				X\n			\n				Print (Opens in new window)\n				Print
URL:https://www.ntxlax.com/events/alamo-heights-anderson-varsity-boys/
CATEGORIES:Game
END:VEVENT
BEGIN:VEVENT
DTSTART;TZID=America/Chicago:20230218T123000
DTEND;TZID=America/Chicago:20230218T153000
DTSTAMP:20260423T230409
CREATED:20230128T001542Z
LAST-MODIFIED:20230128T001542Z
UID:12235-1676723400-1676734200@www.ntxlax.com
SUMMARY:Reagan @ Bowie - Varsity Girls
DESCRIPTION:Share this:\n				Share on X (Opens in new window)\n				X\n			\n				Print (Opens in new window)\n				Print
URL:https://www.ntxlax.com/events/reagan-bowie-varsity-girls/
CATEGORIES:Game
END:VEVENT
BEGIN:VEVENT
DTSTART;TZID=America/Chicago:20230218T123000
DTEND;TZID=America/Chicago:20230218T153000
DTSTAMP:20260423T230409
CREATED:20230127T162512Z
LAST-MODIFIED:20230127T162512Z
UID:12149-1676723400-1676734200@www.ntxlax.com
SUMMARY:TMI @ Alamo Heights - Varsity Girls
DESCRIPTION:Share this:\n				Share on X (Opens in new window)\n				X\n			\n				Print (Opens in new window)\n				Print
URL:https://www.ntxlax.com/events/tmi-alamo-heights-varsity-girls/
CATEGORIES:Game
END:VEVENT
BEGIN:VEVENT
DTSTART;TZID=America/Chicago:20230218T123000
DTEND;TZID=America/Chicago:20230218T153000
DTSTAMP:20260423T230409
CREATED:20230127T060609Z
LAST-MODIFIED:20230127T060632Z
UID:12065-1676723400-1676734200@www.ntxlax.com
SUMMARY:Woodlands Red @ Jesuit - Varsity Boys
DESCRIPTION:Share this:\n				Share on X (Opens in new window)\n				X\n			\n				Print (Opens in new window)\n				Print
URL:https://www.ntxlax.com/events/woodlands-red-jesuit-varsity-boys/
CATEGORIES:Game
END:VEVENT
BEGIN:VEVENT
DTSTART;TZID=America/Chicago:20230218T120000
DTEND;TZID=America/Chicago:20230218T150000
DTSTAMP:20260423T230409
CREATED:20230127T170053Z
LAST-MODIFIED:20230127T170053Z
UID:12183-1676721600-1676732400@www.ntxlax.com
SUMMARY:Anderson @ McKinney - Varsity Girls
DESCRIPTION:Share this:\n				Share on X (Opens in new window)\n				X\n			\n				Print (Opens in new window)\n				Print
URL:https://www.ntxlax.com/events/anderson-mckinney-varsity-girls/
CATEGORIES:Game
END:VEVENT
BEGIN:VEVENT
DTSTART;TZID=America/Chicago:20230218T120000
DTEND;TZID=America/Chicago:20230218T150000
DTSTAMP:20260423T230409
CREATED:20230125T231128Z
LAST-MODIFIED:20230125T231128Z
UID:12011-1676721600-1676732400@www.ntxlax.com
SUMMARY:Highland Park @ Cypress - Varsity Boys
DESCRIPTION:Share this:\n				Share on X (Opens in new window)\n				X\n			\n				Print (Opens in new window)\n				Print
URL:https://www.ntxlax.com/events/highland-park-cypress-varsity-boys/
CATEGORIES:Game
END:VEVENT
BEGIN:VEVENT
DTSTART;TZID=America/Chicago:20230218T103000
DTEND;TZID=America/Chicago:20230218T133000
DTSTAMP:20260423T230409
CREATED:20230127T162410Z
LAST-MODIFIED:20230127T162410Z
UID:12147-1676716200-1676727000@www.ntxlax.com
SUMMARY:Antonian @ Alamo Heights - Varsity Girls
DESCRIPTION:Share this:\n				Share on X (Opens in new window)\n				X\n			\n				Print (Opens in new window)\n				Print
URL:https://www.ntxlax.com/events/antonian-alamo-heights-varsity-girls/
CATEGORIES:Game
END:VEVENT
BEGIN:VEVENT
DTSTART;TZID=America/Chicago:20230217T190000
DTEND;TZID=America/Chicago:20230217T220000
DTSTAMP:20260423T230409
CREATED:20230202T232556Z
LAST-MODIFIED:20230202T232556Z
UID:12387-1676660400-1676671200@www.ntxlax.com
SUMMARY:Grapevine @ Ft. Worth - Varsity Boys
DESCRIPTION:Share this:\n				Share on X (Opens in new window)\n				X\n			\n				Print (Opens in new window)\n				Print
URL:https://www.ntxlax.com/events/grapevine-ft-worth-varsity-boys/
CATEGORIES:Game
END:VEVENT
BEGIN:VEVENT
DTSTART;TZID=America/Chicago:20230216T193000
DTEND;TZID=America/Chicago:20230216T223000
DTSTAMP:20260423T230409
CREATED:20230127T060449Z
LAST-MODIFIED:20230127T060449Z
UID:12063-1676575800-1676586600@www.ntxlax.com
SUMMARY:Pearland @ Woodlands Green - Varsity Boys
DESCRIPTION:Share this:\n				Share on X (Opens in new window)\n				X\n			\n				Print (Opens in new window)\n				Print
URL:https://www.ntxlax.com/events/pearland-woodlands-green-varsity-boys/
CATEGORIES:Game
END:VEVENT
BEGIN:VEVENT
DTSTART;TZID=America/Chicago:20230215T183000
DTEND;TZID=America/Chicago:20230215T213000
DTSTAMP:20260423T230409
CREATED:20230125T040308Z
LAST-MODIFIED:20230125T040308Z
UID:11937-1676485800-1676496600@www.ntxlax.com
SUMMARY:Round Rock @ Vista Ridge - Varsity Boys
DESCRIPTION:Share this:\n				Share on X (Opens in new window)\n				X\n			\n				Print (Opens in new window)\n				Print
URL:https://www.ntxlax.com/events/round-rock-vista-ridge-varsity-boys/
CATEGORIES:Game
END:VEVENT
BEGIN:VEVENT
DTSTART;TZID=America/Chicago:20230212T120000
DTEND;TZID=America/Chicago:20230212T150000
DTSTAMP:20260423T230409
CREATED:20230125T225758Z
LAST-MODIFIED:20230125T225758Z
UID:11992-1676203200-1676214000@www.ntxlax.com
SUMMARY:UT Wlax @ TCU
DESCRIPTION:Share this:\n				Share on X (Opens in new window)\n				X\n			\n				Print (Opens in new window)\n				Print
URL:https://www.ntxlax.com/events/ut-wlax-tcu/
CATEGORIES:Game
END:VEVENT
END:VCALENDAR